BEGIN:VCALENDAR
VERSION:2.0
PRODID:-//AusschreibungsRadar//Timeline//DE
CALSCALE:GREGORIAN
METHOD:PUBLISH
X-WR-CALNAME:Projekt HTK - Textile Vollversorgung
X-WR-TIMEZONE:Europe/Berlin
BEGIN:VEVENT
UID:e4b0d0912041f93f@ausschreibungsradar.com
DTSTAMP:20260424T203303Z
DTSTART;VALUE=DATE:20250411
DTEND;VALUE=DATE:20250411
SUMMARY:Angebotsfrist — HTK - Textile Vollversorgung
DESCRIPTION:Phase: Ausschreibung | Beschreibung: Angebote werden eingeholt | Link: https://ausschreibungsradar.com/ausschreibung/df72d1db-4829-4e73-bca7-4fbb981b6033/ | Geschätzter Wert: 3840000 €
URL:https://ausschreibungsradar.com/ausschreibung/df72d1db-4829-4e73-bca7-4fbb981b6033/
END:VEVENT
BEGIN:VEVENT
UID:e5ab4f2a97e91457@ausschreibungsradar.com
DTSTAMP:20260424T203303Z
DTSTART;VALUE=DATE:20250210
DTEND;VALUE=DATE:20250210
SUMMARY:Ausschreibung — HTK - Textile Vollversorgung
DESCRIPTION:Phase: Ausschreibung | Beschreibung: Offizielle Ausschreibung mit Bieterfrist. | Link: https://ausschreibungsradar.com/ausschreibung/4463fa43-209a-476a-8e1e-ac579ebf3133/
URL:https://ausschreibungsradar.com/ausschreibung/4463fa43-209a-476a-8e1e-ac579ebf3133/
END:VEVENT
BEGIN:VEVENT
UID:e96b35a2607248fc@ausschreibungsradar.com
DTSTAMP:20260424T203303Z
DTSTART;VALUE=DATE:20250210
DTEND;VALUE=DATE:20250210
SUMMARY:Ausschreibung — HTK - Textile Vollversorgung
DESCRIPTION:Phase: Ausschreibung | Beschreibung: Offizielle Ausschreibung mit Bieterfrist. | Link: https://ausschreibungsradar.com/ausschreibung/5799d450-c827-4b19-94b3-ca65e7c1e310/
URL:https://ausschreibungsradar.com/ausschreibung/5799d450-c827-4b19-94b3-ca65e7c1e310/
END:VEVENT
END:VCALENDAR
