BEGIN:VCALENDAR
VERSION:2.0
PRODID:-//AusschreibungsRadar//Timeline//DE
CALSCALE:GREGORIAN
METHOD:PUBLISH
X-WR-CALNAME:Projekt Vergabe von Objektplanungsleistungen Architektur (Gebäude un
X-WR-TIMEZONE:Europe/Berlin
BEGIN:VEVENT
UID:b6dd5bda29cf3a91@ausschreibungsradar.com
DTSTAMP:20260425T102525Z
DTSTART;VALUE=DATE:20250515
DTEND;VALUE=DATE:20250515
SUMMARY:Ausschreibung — Vergabe von Objektplanungsleistungen Architektur (Gebäude un
DESCRIPTION:Phase: Ausschreibung | Beschreibung: Angebote werden eingeholt | Link: https://ausschreibungsradar.com/ausschreibung/4a4cc66c-38a0-41c9-89b6-272bcc3d108b/
URL:https://ausschreibungsradar.com/ausschreibung/4a4cc66c-38a0-41c9-89b6-272bcc3d108b/
END:VEVENT
BEGIN:VEVENT
UID:755fa8f78d32501b@ausschreibungsradar.com
DTSTAMP:20260425T102525Z
DTSTART;VALUE=DATE:20250912
DTEND;VALUE=DATE:20250912
SUMMARY:Vergabeergebnis — Vergabe von Objektplanungsleistungen Architektur (Gebäude un
DESCRIPTION:Phase: Vergabeergebnis | Beschreibung: Auftrag wurde zugeschlagen | Link: https://ausschreibungsradar.com/ausschreibung/e1891e77-9df4-470d-bdc6-baaa5038763e/
URL:https://ausschreibungsradar.com/ausschreibung/e1891e77-9df4-470d-bdc6-baaa5038763e/
END:VEVENT
END:VCALENDAR
