BEGIN:VCALENDAR
VERSION:2.0
PRODID:-//AusschreibungsRadar//Timeline//DE
CALSCALE:GREGORIAN
METHOD:PUBLISH
X-WR-CALNAME:Projekt Unterhalts-, Sonder- und Glasreinigung
X-WR-TIMEZONE:Europe/Berlin
BEGIN:VEVENT
UID:2abb1770131bafc9@ausschreibungsradar.com
DTSTAMP:20260425T171547Z
DTSTART;VALUE=DATE:20240904
DTEND;VALUE=DATE:20240904
SUMMARY:Angebotsfrist — Unterhalts-\, Sonder- und Glasreinigung
DESCRIPTION:Phase: Ausschreibung | Beschreibung: Angebote werden eingeholt | Link: https://ausschreibungsradar.com/ausschreibung/e5bcefea-9e0f-44f9-92af-026ff1e4e56f/ | Geschätzter Wert: 350000 €
URL:https://ausschreibungsradar.com/ausschreibung/e5bcefea-9e0f-44f9-92af-026ff1e4e56f/
END:VEVENT
BEGIN:VEVENT
UID:a581218aaac27780@ausschreibungsradar.com
DTSTAMP:20260425T171547Z
DTSTART;VALUE=DATE:20241101
DTEND;VALUE=DATE:20241101
SUMMARY:Vergabeergebnis — Unterhalts-\, Sonder- und Glasreinigung
DESCRIPTION:Phase: Vergabeergebnis | Beschreibung: Auftrag wurde zugeschlagen | Link: https://ausschreibungsradar.com/ausschreibung/e1d3a644-c85f-48bf-bd64-0cdface945d3/
URL:https://ausschreibungsradar.com/ausschreibung/e1d3a644-c85f-48bf-bd64-0cdface945d3/
END:VEVENT
END:VCALENDAR
