BEGIN:VCALENDAR
VERSION:2.0
PRODID:-//AusschreibungsRadar//Timeline//DE
CALSCALE:GREGORIAN
METHOD:PUBLISH
X-WR-CALNAME:Projekt Jüdische Akademie Frankfurt - Schlosserarbeiten
X-WR-TIMEZONE:Europe/Berlin
BEGIN:VEVENT
UID:220aef973ecc215c@ausschreibungsradar.com
DTSTAMP:20260425T180644Z
DTSTART;VALUE=DATE:20250625
DTEND;VALUE=DATE:20250625
SUMMARY:Angebotsfrist — Jüdische Akademie Frankfurt - Schlosserarbeiten
DESCRIPTION:Phase: Ausschreibung | Beschreibung: Angebote werden eingeholt | Link: https://ausschreibungsradar.com/ausschreibung/e2ba9969-cd10-4c8f-89e8-eb02dc5d41a2/
URL:https://ausschreibungsradar.com/ausschreibung/e2ba9969-cd10-4c8f-89e8-eb02dc5d41a2/
END:VEVENT
BEGIN:VEVENT
UID:adda139dfcfe73b8@ausschreibungsradar.com
DTSTAMP:20260425T180644Z
DTSTART;VALUE=DATE:20250616
DTEND;VALUE=DATE:20250616
SUMMARY:Ausschreibung — Jüdische Akademie Frankfurt - Schlosserarbeiten
DESCRIPTION:Phase: Ausschreibung | Beschreibung: Offizielle Ausschreibung mit Bieterfrist. | Link: https://ausschreibungsradar.com/ausschreibung/9a66e405-de91-4011-8811-2b2b66939e0c/
URL:https://ausschreibungsradar.com/ausschreibung/9a66e405-de91-4011-8811-2b2b66939e0c/
END:VEVENT
END:VCALENDAR
