BEGIN:VCALENDAR
VERSION:2.0
PRODID:-//AusschreibungsRadar//Timeline//DE
CALSCALE:GREGORIAN
METHOD:PUBLISH
X-WR-CALNAME:Projekt AE - Teilneubau der Grundschule Groß Berkel - Dachdeckungs- 
X-WR-TIMEZONE:Europe/Berlin
BEGIN:VEVENT
UID:cace97072d930871@ausschreibungsradar.com
DTSTAMP:20260424T112919Z
DTSTART;VALUE=DATE:20250212
DTEND;VALUE=DATE:20250212
SUMMARY:Zuschlag — AE - Teilneubau der Grundschule Groß Berkel - Dachdeckungs- 
DESCRIPTION:Phase: Zuschlag | Beschreibung: Vergabeergebnis — Auftrag wurde erteilt oder Verfahren beendet. | Link: https://ausschreibungsradar.com/ausschreibung/c1a684c1-af46-4ca4-a825-e8eed9a36a1d/
URL:https://ausschreibungsradar.com/ausschreibung/c1a684c1-af46-4ca4-a825-e8eed9a36a1d/
END:VEVENT
BEGIN:VEVENT
UID:0cb014483ba8576d@ausschreibungsradar.com
DTSTAMP:20260424T112919Z
DTSTART;VALUE=DATE:20250408
DTEND;VALUE=DATE:20250408
SUMMARY:Angebotsfrist — AE - Teilneubau der Grundschule Groß Berkel - Dachdeckungs- 
DESCRIPTION:Phase: Ausschreibung | Beschreibung: Angebote werden eingeholt | Link: https://ausschreibungsradar.com/ausschreibung/e2cddd65-8ad3-4af4-b60e-a24f09649825/
URL:https://ausschreibungsradar.com/ausschreibung/e2cddd65-8ad3-4af4-b60e-a24f09649825/
END:VEVENT
BEGIN:VEVENT
UID:2c583b0f6640e148@ausschreibungsradar.com
DTSTAMP:20260424T112919Z
DTSTART;VALUE=DATE:20250314
DTEND;VALUE=DATE:20250314
SUMMARY:Zuschlag — AE - Teilneubau der Grundschule Groß Berkel - Dachdeckungs- 
DESCRIPTION:Phase: Zuschlag | Beschreibung: Vergabeergebnis — Auftrag wurde erteilt oder Verfahren beendet. | Link: https://ausschreibungsradar.com/ausschreibung/c8085466-d415-49a8-8129-d89837da7742/
URL:https://ausschreibungsradar.com/ausschreibung/c8085466-d415-49a8-8129-d89837da7742/
END:VEVENT
BEGIN:VEVENT
UID:1c1bc8d9309b2c85@ausschreibungsradar.com
DTSTAMP:20260424T112919Z
DTSTART;VALUE=DATE:20250326
DTEND;VALUE=DATE:20250326
SUMMARY:Zuschlag — AE - Teilneubau der Grundschule Groß Berkel - Dachdeckungs- 
DESCRIPTION:Phase: Zuschlag | Beschreibung: Vergabeergebnis — Auftrag wurde erteilt oder Verfahren beendet. | Link: https://ausschreibungsradar.com/ausschreibung/f2d018e7-7fef-4ece-af31-2cc97fb5404e/
URL:https://ausschreibungsradar.com/ausschreibung/f2d018e7-7fef-4ece-af31-2cc97fb5404e/
END:VEVENT
BEGIN:VEVENT
UID:efdc5c1e37bbfae4@ausschreibungsradar.com
DTSTAMP:20260424T112919Z
DTSTART;VALUE=DATE:20250328
DTEND;VALUE=DATE:20250328
SUMMARY:Ausschreibung — AE - Teilneubau der Grundschule Groß Berkel - Dachdeckungs- 
DESCRIPTION:Phase: Ausschreibung | Beschreibung: Offizielle Ausschreibung mit Bieterfrist. | Link: https://ausschreibungsradar.com/ausschreibung/128eae28-3ad6-4bb5-8f70-716f7cd464ce/
URL:https://ausschreibungsradar.com/ausschreibung/128eae28-3ad6-4bb5-8f70-716f7cd464ce/
END:VEVENT
BEGIN:VEVENT
UID:920ef77d2040c249@ausschreibungsradar.com
DTSTAMP:20260424T112919Z
DTSTART;VALUE=DATE:20250521
DTEND;VALUE=DATE:20250521
SUMMARY:Vergabeergebnis — AE - Teilneubau der Grundschule Groß Berkel - Dachdeckungs- 
DESCRIPTION:Phase: Vergabeergebnis | Beschreibung: Auftrag wurde zugeschlagen | Link: https://ausschreibungsradar.com/ausschreibung/450846bf-2d4f-4833-8fa7-ddce70e80c3d/
URL:https://ausschreibungsradar.com/ausschreibung/450846bf-2d4f-4833-8fa7-ddce70e80c3d/
END:VEVENT
END:VCALENDAR
