BEGIN:VCALENDAR
VERSION:2.0
PRODID:-//AusschreibungsRadar//Timeline//DE
CALSCALE:GREGORIAN
METHOD:PUBLISH
X-WR-CALNAME:Projekt TNW_ING_Stadt Rain_Machbarkeitsstudie, Kläranlage Umstellung
X-WR-TIMEZONE:Europe/Berlin
BEGIN:VEVENT
UID:18215bd19ee2a889@ausschreibungsradar.com
DTSTAMP:20260424T033737Z
DTSTART;VALUE=DATE:20260130
DTEND;VALUE=DATE:20260130
SUMMARY:Ausschreibung — TNW_ING_Stadt Rain_Machbarkeitsstudie\, Kläranlage Umstellung
DESCRIPTION:Phase: Ausschreibung | Beschreibung: Angebote werden eingeholt | Link: https://ausschreibungsradar.com/ausschreibung/e2f64e89-3f9e-4e3d-a453-8ac4ae5c157e/
URL:https://ausschreibungsradar.com/ausschreibung/e2f64e89-3f9e-4e3d-a453-8ac4ae5c157e/
END:VEVENT
BEGIN:VEVENT
UID:8160cb2b097d11fb@ausschreibungsradar.com
DTSTAMP:20260424T033737Z
DTSTART;VALUE=DATE:20260130
DTEND;VALUE=DATE:20260130
SUMMARY:Ausschreibung — TNW_ING_Stadt Rain_Machbarkeitsstudie\, Kläranlage Umstellung
DESCRIPTION:Phase: Ausschreibung | Beschreibung: Offizielle Ausschreibung mit Bieterfrist. | Link: https://ausschreibungsradar.com/ausschreibung/3ea23d4d-917a-45f0-af18-57e7fe9dd645/
URL:https://ausschreibungsradar.com/ausschreibung/3ea23d4d-917a-45f0-af18-57e7fe9dd645/
END:VEVENT
END:VCALENDAR
