BEGIN:VCALENDAR
VERSION:2.0
PRODID:-//AusschreibungsRadar//Timeline//DE
CALSCALE:GREGORIAN
METHOD:PUBLISH
X-WR-CALNAME:Projekt Elektroarbeiten
X-WR-TIMEZONE:Europe/Berlin
BEGIN:VEVENT
UID:c71d059f05deebdf@ausschreibungsradar.com
DTSTAMP:20260424T042928Z
DTSTART;VALUE=DATE:20240718
DTEND;VALUE=DATE:20240718
SUMMARY:Angebotsfrist — Elektroarbeiten
DESCRIPTION:Phase: Ausschreibung | Beschreibung: Angebote werden eingeholt | Link: https://ausschreibungsradar.com/ausschreibung/e344b59f-128b-41c8-a627-bf24baa2f52a/
URL:https://ausschreibungsradar.com/ausschreibung/e344b59f-128b-41c8-a627-bf24baa2f52a/
END:VEVENT
END:VCALENDAR
