BEGIN:VCALENDAR
VERSION:2.0
PRODID:-//AusschreibungsRadar//Timeline//DE
CALSCALE:GREGORIAN
METHOD:PUBLISH
X-WR-CALNAME:Projekt Bau und Lieferung eines Tanklöschfahrzeuges TLF 4000 gemäß D
X-WR-TIMEZONE:Europe/Berlin
BEGIN:VEVENT
UID:411189c5978308ab@ausschreibungsradar.com
DTSTAMP:20260425T120654Z
DTSTART;VALUE=DATE:20251127
DTEND;VALUE=DATE:20251127
SUMMARY:Angebotsfrist — Bau und Lieferung eines Tanklöschfahrzeuges TLF 4000 gemäß D
DESCRIPTION:Phase: Ausschreibung | Beschreibung: Angebote werden eingeholt | Link: https://ausschreibungsradar.com/ausschreibung/e3982ec9-3879-424d-b2eb-04846c67e30f/
URL:https://ausschreibungsradar.com/ausschreibung/e3982ec9-3879-424d-b2eb-04846c67e30f/
END:VEVENT
BEGIN:VEVENT
UID:23c1d70abd3ffdf3@ausschreibungsradar.com
DTSTAMP:20260425T120654Z
DTSTART;VALUE=DATE:20250922
DTEND;VALUE=DATE:20250922
SUMMARY:Ausschreibung — Bau und Lieferung eines Tanklöschfahrzeuges TLF 4000 gemäß D
DESCRIPTION:Phase: Ausschreibung | Beschreibung: Offizielle Ausschreibung mit Bieterfrist. | Link: https://ausschreibungsradar.com/ausschreibung/4ff426d9-4bd4-496f-b4fe-566797bfd404/
URL:https://ausschreibungsradar.com/ausschreibung/4ff426d9-4bd4-496f-b4fe-566797bfd404/
END:VEVENT
BEGIN:VEVENT
UID:f16f3c566a12cc73@ausschreibungsradar.com
DTSTAMP:20260425T120654Z
DTSTART;VALUE=DATE:20250922
DTEND;VALUE=DATE:20250922
SUMMARY:Ausschreibung — Bau und Lieferung eines Tanklöschfahrzeuges TLF 4000 gemäß D
DESCRIPTION:Phase: Ausschreibung | Beschreibung: Offizielle Ausschreibung mit Bieterfrist. | Link: https://ausschreibungsradar.com/ausschreibung/ff6eeae6-9d5a-4b3c-a6e0-a6f8cc81a12a/
URL:https://ausschreibungsradar.com/ausschreibung/ff6eeae6-9d5a-4b3c-a6e0-a6f8cc81a12a/
END:VEVENT
BEGIN:VEVENT
UID:a5319a5120094036@ausschreibungsradar.com
DTSTAMP:20260425T120654Z
DTSTART;VALUE=DATE:20260130
DTEND;VALUE=DATE:20260130
SUMMARY:Vergabeergebnis — Bau und Lieferung eines Tanklöschfahrzeuges TLF 4000 gemäß D
DESCRIPTION:Phase: Vergabeergebnis | Beschreibung: Auftrag wurde zugeschlagen | Link: https://ausschreibungsradar.com/ausschreibung/5e2ded0c-2e78-43b9-a024-daf916f6c028/
URL:https://ausschreibungsradar.com/ausschreibung/5e2ded0c-2e78-43b9-a024-daf916f6c028/
END:VEVENT
END:VCALENDAR
