BEGIN:VCALENDAR
VERSION:2.0
PRODID:-//AusschreibungsRadar//Timeline//DE
CALSCALE:GREGORIAN
METHOD:PUBLISH
X-WR-CALNAME:Projekt BSR - Schlosserarbeiten
X-WR-TIMEZONE:Europe/Berlin
BEGIN:VEVENT
UID:653e1eec186cf426@ausschreibungsradar.com
DTSTAMP:20260425T000420Z
DTSTART;VALUE=DATE:20251021
DTEND;VALUE=DATE:20251021
SUMMARY:Angebotsfrist — BSR - Schlosserarbeiten
DESCRIPTION:Phase: Ausschreibung | Beschreibung: Angebote werden eingeholt | Link: https://ausschreibungsradar.com/ausschreibung/e3c9d374-9e56-4143-aa20-3ab1af2cde21/
URL:https://ausschreibungsradar.com/ausschreibung/e3c9d374-9e56-4143-aa20-3ab1af2cde21/
END:VEVENT
BEGIN:VEVENT
UID:3a4e40eccc1c39ce@ausschreibungsradar.com
DTSTAMP:20260425T000420Z
DTSTART;VALUE=DATE:20251021
DTEND;VALUE=DATE:20251021
SUMMARY:Vergabeergebnis — BSR - Schlosserarbeiten
DESCRIPTION:Phase: Vergabeergebnis | Beschreibung: Keine Angebote eingegangen | Link: https://ausschreibungsradar.com/ausschreibung/a36d7b93-7414-4617-9801-e865f0875c8d/
URL:https://ausschreibungsradar.com/ausschreibung/a36d7b93-7414-4617-9801-e865f0875c8d/
END:VEVENT
END:VCALENDAR
