BEGIN:VCALENDAR
VERSION:2.0
PRODID:-//AusschreibungsRadar//Timeline//DE
CALSCALE:GREGORIAN
METHOD:PUBLISH
X-WR-CALNAME:Projekt Neubau eines 2 + 4 - gruppigen Kindergarten in Mainburg - Fe
X-WR-TIMEZONE:Europe/Berlin
BEGIN:VEVENT
UID:e2411f89e961d78a@ausschreibungsradar.com
DTSTAMP:20260425T015434Z
DTSTART;VALUE=DATE:20260511
DTEND;VALUE=DATE:20260511
SUMMARY:Angebotsfrist — Neubau eines 2 + 4 - gruppigen Kindergarten in Mainburg - Fe
DESCRIPTION:Phase: Ausschreibung | Beschreibung: Angebote werden eingeholt | Link: https://ausschreibungsradar.com/ausschreibung/e43a93bf-87a6-47ed-b666-a52ff50e3456/
URL:https://ausschreibungsradar.com/ausschreibung/e43a93bf-87a6-47ed-b666-a52ff50e3456/
END:VEVENT
BEGIN:VEVENT
UID:84dc31a4a32bd6ae@ausschreibungsradar.com
DTSTAMP:20260425T015434Z
DTSTART;VALUE=DATE:20260408
DTEND;VALUE=DATE:20260408
SUMMARY:Ausschreibung — Neubau eines 2 + 4 - gruppigen Kindergarten in Mainburg - Fe
DESCRIPTION:Phase: Ausschreibung | Beschreibung: Offizielle Ausschreibung mit Bieterfrist. | Link: https://ausschreibungsradar.com/ausschreibung/ad7b02cc-f87e-4c55-8811-b25a25d0f073/
URL:https://ausschreibungsradar.com/ausschreibung/ad7b02cc-f87e-4c55-8811-b25a25d0f073/
END:VEVENT
END:VCALENDAR
