BEGIN:VCALENDAR
VERSION:2.0
PRODID:-//AusschreibungsRadar//Timeline//DE
CALSCALE:GREGORIAN
METHOD:PUBLISH
X-WR-CALNAME:Projekt Werner-von-Siemens-Gymnasium Bad Harzburg: Fliesenarbeiten (
X-WR-TIMEZONE:Europe/Berlin
BEGIN:VEVENT
UID:e4e961502291952e@ausschreibungsradar.com
DTSTAMP:20260426T024200Z
DTSTART;VALUE=DATE:20250804
DTEND;VALUE=DATE:20250804
SUMMARY:Angebotsfrist — Werner-von-Siemens-Gymnasium Bad Harzburg: Fliesenarbeiten (
DESCRIPTION:Phase: Ausschreibung | Beschreibung: Angebote werden eingeholt | Link: https://ausschreibungsradar.com/ausschreibung/e4413fa0-0e32-4301-8678-543feaa6bdd0/
URL:https://ausschreibungsradar.com/ausschreibung/e4413fa0-0e32-4301-8678-543feaa6bdd0/
END:VEVENT
BEGIN:VEVENT
UID:62d44bf599e626b0@ausschreibungsradar.com
DTSTAMP:20260426T024200Z
DTSTART;VALUE=DATE:20250718
DTEND;VALUE=DATE:20250718
SUMMARY:Ausschreibung — Werner-von-Siemens-Gymnasium Bad Harzburg: Fliesenarbeiten (
DESCRIPTION:Phase: Ausschreibung | Beschreibung: Offizielle Ausschreibung mit Bieterfrist. | Link: https://ausschreibungsradar.com/ausschreibung/bdf26d0d-fd62-4380-893d-ea0931a2b66c/
URL:https://ausschreibungsradar.com/ausschreibung/bdf26d0d-fd62-4380-893d-ea0931a2b66c/
END:VEVENT
BEGIN:VEVENT
UID:2330b1f64bf8cb66@ausschreibungsradar.com
DTSTAMP:20260426T024200Z
DTSTART;VALUE=DATE:20250915
DTEND;VALUE=DATE:20250915
SUMMARY:Vergabeergebnis — Werner-von-Siemens-Gymnasium Bad Harzburg: Fliesenarbeiten (
DESCRIPTION:Phase: Vergabeergebnis | Beschreibung: Auftrag wurde zugeschlagen | Link: https://ausschreibungsradar.com/ausschreibung/daa93ef7-ee53-4262-9774-6e3306b6900d/
URL:https://ausschreibungsradar.com/ausschreibung/daa93ef7-ee53-4262-9774-6e3306b6900d/
END:VEVENT
END:VCALENDAR
