BEGIN:VCALENDAR
VERSION:2.0
PRODID:-//AusschreibungsRadar//Timeline//DE
CALSCALE:GREGORIAN
METHOD:PUBLISH
X-WR-CALNAME:Projekt AE - Teilneubau der Grundschule Groß Berkel - Gebäudeautomat
X-WR-TIMEZONE:Europe/Berlin
BEGIN:VEVENT
UID:a90862a465f4ebd1@ausschreibungsradar.com
DTSTAMP:20260424T091114Z
DTSTART;VALUE=DATE:20251008
DTEND;VALUE=DATE:20251008
SUMMARY:Angebotsfrist — AE - Teilneubau der Grundschule Groß Berkel - Gebäudeautomat
DESCRIPTION:Phase: Ausschreibung | Beschreibung: Angebote werden eingeholt | Link: https://ausschreibungsradar.com/ausschreibung/475e9da7-4407-4add-b62c-e5de4d9140c6/
URL:https://ausschreibungsradar.com/ausschreibung/475e9da7-4407-4add-b62c-e5de4d9140c6/
END:VEVENT
BEGIN:VEVENT
UID:27bb6da9e3ec14b6@ausschreibungsradar.com
DTSTAMP:20260424T091114Z
DTSTART;VALUE=DATE:20250905
DTEND;VALUE=DATE:20250905
SUMMARY:Ausschreibung — AE - Teilneubau der Grundschule Groß Berkel - Gebäudeautomat
DESCRIPTION:Phase: Ausschreibung | Beschreibung: Offizielle Ausschreibung mit Bieterfrist. | Link: https://ausschreibungsradar.com/ausschreibung/ce7b041b-4e96-4c25-bc88-f5f0cd045dba/
URL:https://ausschreibungsradar.com/ausschreibung/ce7b041b-4e96-4c25-bc88-f5f0cd045dba/
END:VEVENT
BEGIN:VEVENT
UID:8a10ef3dc1470403@ausschreibungsradar.com
DTSTAMP:20260424T091114Z
DTSTART;VALUE=DATE:20251119
DTEND;VALUE=DATE:20251119
SUMMARY:Zuschlag — AE - Teilneubau der Grundschule Groß Berkel - Gebäudeautomat
DESCRIPTION:Phase: Zuschlag | Beschreibung: Vergabeergebnis — Auftrag wurde erteilt oder Verfahren beendet. | Link: https://ausschreibungsradar.com/ausschreibung/fde6b2d9-c971-4fb8-b8b6-964a5eacfa89/
URL:https://ausschreibungsradar.com/ausschreibung/fde6b2d9-c971-4fb8-b8b6-964a5eacfa89/
END:VEVENT
BEGIN:VEVENT
UID:49b05462b10aebc2@ausschreibungsradar.com
DTSTAMP:20260424T091114Z
DTSTART;VALUE=DATE:20251126
DTEND;VALUE=DATE:20251126
SUMMARY:Zuschlag — AE - Teilneubau der Grundschule Groß Berkel - Gebäudeautomat
DESCRIPTION:Phase: Zuschlag | Beschreibung: Vergabeergebnis — Auftrag wurde erteilt oder Verfahren beendet. | Link: https://ausschreibungsradar.com/ausschreibung/db980b39-7ff5-4109-a79d-9697122b4fdc/
URL:https://ausschreibungsradar.com/ausschreibung/db980b39-7ff5-4109-a79d-9697122b4fdc/
END:VEVENT
BEGIN:VEVENT
UID:16e56560c04b45f0@ausschreibungsradar.com
DTSTAMP:20260424T091114Z
DTSTART;VALUE=DATE:20251128
DTEND;VALUE=DATE:20251128
SUMMARY:Ausschreibung — AE - Teilneubau der Grundschule Groß Berkel - Gebäudeautomat
DESCRIPTION:Phase: Ausschreibung | Beschreibung: Offizielle Ausschreibung mit Bieterfrist. | Link: https://ausschreibungsradar.com/ausschreibung/aef7dc63-15b4-46a6-b4e7-cf030fca52e5/
URL:https://ausschreibungsradar.com/ausschreibung/aef7dc63-15b4-46a6-b4e7-cf030fca52e5/
END:VEVENT
BEGIN:VEVENT
UID:97beeddd2675b32a@ausschreibungsradar.com
DTSTAMP:20260424T091114Z
DTSTART;VALUE=DATE:20251202
DTEND;VALUE=DATE:20251202
SUMMARY:Vergabeergebnis — AE - Teilneubau der Grundschule Groß Berkel - Gebäudeautomat
DESCRIPTION:Phase: Vergabeergebnis | Beschreibung: Auftrag wurde zugeschlagen | Link: https://ausschreibungsradar.com/ausschreibung/e4bcf8b4-52fc-4459-9ce3-7c6433ccf29e/
URL:https://ausschreibungsradar.com/ausschreibung/e4bcf8b4-52fc-4459-9ce3-7c6433ccf29e/
END:VEVENT
END:VCALENDAR
