BEGIN:VCALENDAR
VERSION:2.0
PRODID:-//AusschreibungsRadar//Timeline//DE
CALSCALE:GREGORIAN
METHOD:PUBLISH
X-WR-CALNAME:Projekt MPH Markt Pfaffenhausen - Umbau und Erweiterung der Grund- u
X-WR-TIMEZONE:Europe/Berlin
BEGIN:VEVENT
UID:b195c30509423afb@ausschreibungsradar.com
DTSTAMP:20260425T172045Z
DTSTART;VALUE=DATE:20250516
DTEND;VALUE=DATE:20250516
SUMMARY:Ausschreibung — MPH Markt Pfaffenhausen - Umbau und Erweiterung der Grund- u
DESCRIPTION:Phase: Ausschreibung | Beschreibung: Angebote werden eingeholt | Link: https://ausschreibungsradar.com/ausschreibung/e4deb4e4-c149-44c9-9859-c29659b3971c/ | Geschätzter Wert: 400000 €
URL:https://ausschreibungsradar.com/ausschreibung/e4deb4e4-c149-44c9-9859-c29659b3971c/
END:VEVENT
BEGIN:VEVENT
UID:342eda0480a3a8ba@ausschreibungsradar.com
DTSTAMP:20260425T172045Z
DTSTART;VALUE=DATE:20250516
DTEND;VALUE=DATE:20250516
SUMMARY:Ausschreibung — MPH Markt Pfaffenhausen - Umbau und Erweiterung der Grund- u
DESCRIPTION:Phase: Ausschreibung | Beschreibung: Offizielle Ausschreibung mit Bieterfrist. | Link: https://ausschreibungsradar.com/ausschreibung/c6fb50f1-6601-4fd0-a8a1-581a175ff724/
URL:https://ausschreibungsradar.com/ausschreibung/c6fb50f1-6601-4fd0-a8a1-581a175ff724/
END:VEVENT
BEGIN:VEVENT
UID:337b7f9b6d226c29@ausschreibungsradar.com
DTSTAMP:20260425T172045Z
DTSTART;VALUE=DATE:20250521
DTEND;VALUE=DATE:20250521
SUMMARY:Vergabeergebnis — MPH Markt Pfaffenhausen - Umbau und Erweiterung der Grund- u
DESCRIPTION:Phase: Vergabeergebnis | Beschreibung: Bedarf hat sich geändert | Link: https://ausschreibungsradar.com/ausschreibung/7c75614a-7ba7-40ab-9f19-8243147a8fcf/
URL:https://ausschreibungsradar.com/ausschreibung/7c75614a-7ba7-40ab-9f19-8243147a8fcf/
END:VEVENT
BEGIN:VEVENT
UID:af2ab7d465da8443@ausschreibungsradar.com
DTSTAMP:20260425T172045Z
DTSTART;VALUE=DATE:20250521
DTEND;VALUE=DATE:20250521
SUMMARY:Zuschlag — MPH Markt Pfaffenhausen - Umbau und Erweiterung der Grund- u
DESCRIPTION:Phase: Zuschlag | Beschreibung: Vergabeergebnis — Auftrag wurde erteilt oder Verfahren beendet. | Link: https://ausschreibungsradar.com/ausschreibung/287cd1d1-8f86-4257-87dd-ae59488e6d5f/
URL:https://ausschreibungsradar.com/ausschreibung/287cd1d1-8f86-4257-87dd-ae59488e6d5f/
END:VEVENT
END:VCALENDAR
