BEGIN:VCALENDAR
VERSION:2.0
PRODID:-//AusschreibungsRadar//Timeline//DE
CALSCALE:GREGORIAN
METHOD:PUBLISH
X-WR-CALNAME:Projekt Planung des Ausbaus Briesker Straße vom Kreisel W.-Pieck-Str
X-WR-TIMEZONE:Europe/Berlin
BEGIN:VEVENT
UID:12e28be50d0e44c8@ausschreibungsradar.com
DTSTAMP:20260424T015604Z
DTSTART;VALUE=DATE:20260106
DTEND;VALUE=DATE:20260106
SUMMARY:Angebotsfrist — Planung des Ausbaus Briesker Straße vom Kreisel W.-Pieck-Str
DESCRIPTION:Phase: Ausschreibung | Beschreibung: Angebote werden eingeholt | Link: https://ausschreibungsradar.com/ausschreibung/e65a95a5-4828-4025-acfa-37eb3ba6f8a2/
URL:https://ausschreibungsradar.com/ausschreibung/e65a95a5-4828-4025-acfa-37eb3ba6f8a2/
END:VEVENT
BEGIN:VEVENT
UID:212c83801bd2cd8e@ausschreibungsradar.com
DTSTAMP:20260424T015604Z
DTSTART;VALUE=DATE:20251205
DTEND;VALUE=DATE:20251205
SUMMARY:Ausschreibung — Planung des Ausbaus Briesker Straße vom Kreisel W.-Pieck-Str
DESCRIPTION:Phase: Ausschreibung | Beschreibung: Offizielle Ausschreibung mit Bieterfrist. | Link: https://ausschreibungsradar.com/ausschreibung/180f2795-b42c-420e-a336-73cba8e0b140/
URL:https://ausschreibungsradar.com/ausschreibung/180f2795-b42c-420e-a336-73cba8e0b140/
END:VEVENT
BEGIN:VEVENT
UID:d68b6bc01481f747@ausschreibungsradar.com
DTSTAMP:20260424T015604Z
DTSTART;VALUE=DATE:20260327
DTEND;VALUE=DATE:20260327
SUMMARY:Vergabeergebnis — Planung des Ausbaus Briesker Straße vom Kreisel W.-Pieck-Str
DESCRIPTION:Phase: Vergabeergebnis | Beschreibung: Auftrag wurde zugeschlagen | Link: https://ausschreibungsradar.com/ausschreibung/b6ead9b8-f03f-47bb-9711-7cb39b2fd735/
URL:https://ausschreibungsradar.com/ausschreibung/b6ead9b8-f03f-47bb-9711-7cb39b2fd735/
END:VEVENT
END:VCALENDAR
