BEGIN:VCALENDAR
VERSION:2.0
PRODID:-//AusschreibungsRadar//Timeline//DE
CALSCALE:GREGORIAN
METHOD:PUBLISH
X-WR-CALNAME:Projekt Rudelstadt, Schloss Heidecksburg, Nord- und Westflügel, Teil
X-WR-TIMEZONE:Europe/Berlin
BEGIN:VEVENT
UID:a0ec411e6523f442@ausschreibungsradar.com
DTSTAMP:20260426T000955Z
DTSTART;VALUE=DATE:20250701
DTEND;VALUE=DATE:20250701
SUMMARY:Angebotsfrist — Rudelstadt\, Schloss Heidecksburg\, Nord- und Westflügel\, Teil
DESCRIPTION:Phase: Ausschreibung | Beschreibung: Angebote werden eingeholt | Link: https://ausschreibungsradar.com/ausschreibung/215990f0-f20d-4c00-8f72-a3d7d62694e5/
URL:https://ausschreibungsradar.com/ausschreibung/215990f0-f20d-4c00-8f72-a3d7d62694e5/
END:VEVENT
BEGIN:VEVENT
UID:b4abd29bd62597d4@ausschreibungsradar.com
DTSTAMP:20260426T000955Z
DTSTART;VALUE=DATE:20251121
DTEND;VALUE=DATE:20251121
SUMMARY:Vergabeergebnis — Rudelstadt\, Schloss Heidecksburg\, Nord- und Westflügel\, Teil
DESCRIPTION:Phase: Vergabeergebnis | Beschreibung: Auftrag wurde zugeschlagen | Link: https://ausschreibungsradar.com/ausschreibung/e66db9f1-ea8c-4459-9870-22bdbf50a455/
URL:https://ausschreibungsradar.com/ausschreibung/e66db9f1-ea8c-4459-9870-22bdbf50a455/
END:VEVENT
END:VCALENDAR
