BEGIN:VCALENDAR
VERSION:2.0
PRODID:-//AusschreibungsRadar//Timeline//DE
CALSCALE:GREGORIAN
METHOD:PUBLISH
X-WR-CALNAME:Projekt BvA_HLS_Lebenshilfe Amberg-Sulzbach e. V._Neubau einer SVE u
X-WR-TIMEZONE:Europe/Berlin
BEGIN:VEVENT
UID:ccdb9c396ffd5157@ausschreibungsradar.com
DTSTAMP:20260424T195237Z
DTSTART;VALUE=DATE:20241007
DTEND;VALUE=DATE:20241007
SUMMARY:Ausschreibung — BvA_HLS_Lebenshilfe Amberg-Sulzbach e. V._Neubau einer SVE u
DESCRIPTION:Phase: Ausschreibung | Beschreibung: Angebote werden eingeholt | Link: https://ausschreibungsradar.com/ausschreibung/c6fa24e8-2de6-4a48-9dcb-12d7278030cb/
URL:https://ausschreibungsradar.com/ausschreibung/c6fa24e8-2de6-4a48-9dcb-12d7278030cb/
END:VEVENT
BEGIN:VEVENT
UID:ce79a3ede73b41a5@ausschreibungsradar.com
DTSTAMP:20260424T195237Z
DTSTART;VALUE=DATE:20250303
DTEND;VALUE=DATE:20250303
SUMMARY:Vergabeergebnis — BvA_HLS_Lebenshilfe Amberg-Sulzbach e. V._Neubau einer SVE u
DESCRIPTION:Phase: Vergabeergebnis | Beschreibung: Auftrag wurde zugeschlagen | Link: https://ausschreibungsradar.com/ausschreibung/e6adea1c-5e2e-4eaa-ab60-ead73a5daf65/
URL:https://ausschreibungsradar.com/ausschreibung/e6adea1c-5e2e-4eaa-ab60-ead73a5daf65/
END:VEVENT
BEGIN:VEVENT
UID:40a3b6123445770e@ausschreibungsradar.com
DTSTAMP:20260424T195237Z
DTSTART;VALUE=DATE:20250303
DTEND;VALUE=DATE:20250303
SUMMARY:Zuschlag — BvA_HLS_Lebenshilfe Amberg-Sulzbach e. V._Neubau einer SVE u
DESCRIPTION:Phase: Zuschlag | Beschreibung: Vergabeergebnis — Auftrag wurde erteilt oder Verfahren beendet. | Link: https://ausschreibungsradar.com/ausschreibung/c15b088a-f9a0-4118-a10b-aa59edf13f48/
URL:https://ausschreibungsradar.com/ausschreibung/c15b088a-f9a0-4118-a10b-aa59edf13f48/
END:VEVENT
END:VCALENDAR
