BEGIN:VCALENDAR
VERSION:2.0
PRODID:-//AusschreibungsRadar//Timeline//DE
CALSCALE:GREGORIAN
METHOD:PUBLISH
X-WR-CALNAME:Projekt 59. Generika-Ausschreibung
X-WR-TIMEZONE:Europe/Berlin
BEGIN:VEVENT
UID:20822d4a05a6caa8@ausschreibungsradar.com
DTSTAMP:20260425T135125Z
DTSTART;VALUE=DATE:20260324
DTEND;VALUE=DATE:20260324
SUMMARY:Angebotsfrist — 59. Generika-Ausschreibung
DESCRIPTION:Phase: Ausschreibung | Beschreibung: Angebote werden eingeholt | Link: https://ausschreibungsradar.com/ausschreibung/e6ceee7d-54fc-4776-aa48-2614a5d430e5/
URL:https://ausschreibungsradar.com/ausschreibung/e6ceee7d-54fc-4776-aa48-2614a5d430e5/
END:VEVENT
BEGIN:VEVENT
UID:86a83ee52806acde@ausschreibungsradar.com
DTSTAMP:20260425T135125Z
DTSTART;VALUE=DATE:20260204
DTEND;VALUE=DATE:20260204
SUMMARY:Ausschreibung — 59. Generika-Ausschreibung
DESCRIPTION:Phase: Ausschreibung | Beschreibung: Offizielle Ausschreibung mit Bieterfrist. | Link: https://ausschreibungsradar.com/ausschreibung/4d898543-089f-4c98-96af-8fa4bacb2d0b/
URL:https://ausschreibungsradar.com/ausschreibung/4d898543-089f-4c98-96af-8fa4bacb2d0b/
END:VEVENT
END:VCALENDAR
