BEGIN:VCALENDAR
VERSION:2.0
PRODID:-//AusschreibungsRadar//Timeline//DE
CALSCALE:GREGORIAN
METHOD:PUBLISH
X-WR-CALNAME:Projekt Projekt: Julius-Kühn-Institut – Sanierung und Erweiterung Ha
X-WR-TIMEZONE:Europe/Berlin
BEGIN:VEVENT
UID:0c7aba0420eb8c97@ausschreibungsradar.com
DTSTAMP:20260425T150414Z
DTSTART;VALUE=DATE:20240624
DTEND;VALUE=DATE:20240624
SUMMARY:Ausschreibung — Projekt: Julius-Kühn-Institut – Sanierung und Erweiterung Ha
DESCRIPTION:Phase: Ausschreibung | Beschreibung: Angebote werden eingeholt | Link: https://ausschreibungsradar.com/ausschreibung/e7dc5d0e-27dd-4101-a196-fe71a2f902d0/
URL:https://ausschreibungsradar.com/ausschreibung/e7dc5d0e-27dd-4101-a196-fe71a2f902d0/
END:VEVENT
BEGIN:VEVENT
UID:2cb3a05058395e46@ausschreibungsradar.com
DTSTAMP:20260425T150414Z
DTSTART;VALUE=DATE:20240624
DTEND;VALUE=DATE:20240624
SUMMARY:Ausschreibung — Projekt: Julius-Kühn-Institut – Sanierung und Erweiterung Ha
DESCRIPTION:Phase: Ausschreibung | Beschreibung: Offizielle Ausschreibung mit Bieterfrist. | Link: https://ausschreibungsradar.com/ausschreibung/510cf176-216a-4ea9-ba70-c36c30c76ab1/
URL:https://ausschreibungsradar.com/ausschreibung/510cf176-216a-4ea9-ba70-c36c30c76ab1/
END:VEVENT
BEGIN:VEVENT
UID:2127913eb500785d@ausschreibungsradar.com
DTSTAMP:20260425T150414Z
DTSTART;VALUE=DATE:20240625
DTEND;VALUE=DATE:20240625
SUMMARY:Ausschreibung — Projekt: Julius-Kühn-Institut – Sanierung und Erweiterung Ha
DESCRIPTION:Phase: Ausschreibung | Beschreibung: Offizielle Ausschreibung mit Bieterfrist. | Link: https://ausschreibungsradar.com/ausschreibung/ted-375587-2024/
URL:https://ausschreibungsradar.com/ausschreibung/ted-375587-2024/
END:VEVENT
BEGIN:VEVENT
UID:e18198a4aa7ebdf4@ausschreibungsradar.com
DTSTAMP:20260425T150414Z
DTSTART;VALUE=DATE:20260212
DTEND;VALUE=DATE:20260212
SUMMARY:Vergabeergebnis — Projekt: Julius-Kühn-Institut – Sanierung und Erweiterung Ha
DESCRIPTION:Phase: Vergabeergebnis | Beschreibung: Auftrag wurde zugeschlagen | Link: https://ausschreibungsradar.com/ausschreibung/868e06a1-5b5f-4246-b79d-5f81d74d96c9/
URL:https://ausschreibungsradar.com/ausschreibung/868e06a1-5b5f-4246-b79d-5f81d74d96c9/
END:VEVENT
END:VCALENDAR
