BEGIN:VCALENDAR
VERSION:2.0
PRODID:-//AusschreibungsRadar//Timeline//DE
CALSCALE:GREGORIAN
METHOD:PUBLISH
X-WR-CALNAME:Projekt Lieferung von Wärme an den Landkreis Dachau für das Gymnasiu
X-WR-TIMEZONE:Europe/Berlin
BEGIN:VEVENT
UID:a5c76246d63b80d8@ausschreibungsradar.com
DTSTAMP:20260424T184736Z
DTSTART;VALUE=DATE:20250218
DTEND;VALUE=DATE:20250218
SUMMARY:Angebotsfrist — Lieferung von Wärme an den Landkreis Dachau für das Gymnasiu
DESCRIPTION:Phase: Ausschreibung | Beschreibung: Angebote werden eingeholt | Link: https://ausschreibungsradar.com/ausschreibung/fa8282ef-c2b7-45f4-b741-e8021d21ef70/
URL:https://ausschreibungsradar.com/ausschreibung/fa8282ef-c2b7-45f4-b741-e8021d21ef70/
END:VEVENT
BEGIN:VEVENT
UID:6ee665ca52890129@ausschreibungsradar.com
DTSTAMP:20260424T184736Z
DTSTART;VALUE=DATE:20250424
DTEND;VALUE=DATE:20250424
SUMMARY:Vergabeergebnis — Lieferung von Wärme an den Landkreis Dachau für das Gymnasiu
DESCRIPTION:Phase: Vergabeergebnis | Beschreibung: Auftrag wurde zugeschlagen | Link: https://ausschreibungsradar.com/ausschreibung/e7fe6ee0-6cf8-4cb3-94df-084c0fe07394/ | Auftragnehmer: WBV-Wald und Holz GmbH & 
URL:https://ausschreibungsradar.com/ausschreibung/e7fe6ee0-6cf8-4cb3-94df-084c0fe07394/
END:VEVENT
END:VCALENDAR
