BEGIN:VCALENDAR
VERSION:2.0
PRODID:-//AusschreibungsRadar//Timeline//DE
CALSCALE:GREGORIAN
METHOD:PUBLISH
X-WR-CALNAME:Projekt Schreinerarbeiten - Einbaumöbel
X-WR-TIMEZONE:Europe/Berlin
BEGIN:VEVENT
UID:a25081099efccb5e@ausschreibungsradar.com
DTSTAMP:20260425T225646Z
DTSTART;VALUE=DATE:20240827
DTEND;VALUE=DATE:20240827
SUMMARY:Angebotsfrist — Schreinerarbeiten - Einbaumöbel
DESCRIPTION:Phase: Ausschreibung | Beschreibung: Angebote werden eingeholt | Link: https://ausschreibungsradar.com/ausschreibung/e80e8d49-8469-4980-87f2-e568ab8b7efa/
URL:https://ausschreibungsradar.com/ausschreibung/e80e8d49-8469-4980-87f2-e568ab8b7efa/
END:VEVENT
END:VCALENDAR
