BEGIN:VCALENDAR
VERSION:2.0
PRODID:-//AusschreibungsRadar//Timeline//DE
CALSCALE:GREGORIAN
METHOD:PUBLISH
X-WR-CALNAME:Projekt Schadstoffsanierung und Rückbau Gebäude L Gewerbepark am Ger
X-WR-TIMEZONE:Europe/Berlin
BEGIN:VEVENT
UID:baea082d4604082c@ausschreibungsradar.com
DTSTAMP:20260425T135616Z
DTSTART;VALUE=DATE:20240416
DTEND;VALUE=DATE:20240416
SUMMARY:Angebotsfrist — Schadstoffsanierung und Rückbau Gebäude L Gewerbepark am Ger
DESCRIPTION:Phase: Ausschreibung | Beschreibung: Angebote werden eingeholt | Link: https://ausschreibungsradar.com/ausschreibung/3e82fa74-9eb6-4cae-89cb-ac4780a8203c/
URL:https://ausschreibungsradar.com/ausschreibung/3e82fa74-9eb6-4cae-89cb-ac4780a8203c/
END:VEVENT
BEGIN:VEVENT
UID:f77317fd5c4b105c@ausschreibungsradar.com
DTSTAMP:20260425T135616Z
DTSTART;VALUE=DATE:20240524
DTEND;VALUE=DATE:20240524
SUMMARY:Vergabeergebnis — Schadstoffsanierung und Rückbau Gebäude L Gewerbepark am Ger
DESCRIPTION:Phase: Vergabeergebnis | Beschreibung: Auftrag wurde zugeschlagen | Link: https://ausschreibungsradar.com/ausschreibung/e83e4dbe-d79f-473f-a477-c348464ce82c/
URL:https://ausschreibungsradar.com/ausschreibung/e83e4dbe-d79f-473f-a477-c348464ce82c/
END:VEVENT
BEGIN:VEVENT
UID:fce00fbb9f16cb61@ausschreibungsradar.com
DTSTAMP:20260425T135616Z
DTSTART;VALUE=DATE:20240527
DTEND;VALUE=DATE:20240527
SUMMARY:Zuschlag — Schadstoffsanierung und Rückbau Gebäude L Gewerbepark am Ger
DESCRIPTION:Phase: Zuschlag | Beschreibung: Vergabeergebnis — Auftrag wurde erteilt oder Verfahren beendet. | Link: https://ausschreibungsradar.com/ausschreibung/ted-308913-2024/
URL:https://ausschreibungsradar.com/ausschreibung/ted-308913-2024/
END:VEVENT
END:VCALENDAR
