BEGIN:VCALENDAR
VERSION:2.0
PRODID:-//AusschreibungsRadar//Timeline//DE
CALSCALE:GREGORIAN
METHOD:PUBLISH
X-WR-CALNAME:Projekt Um- und Neubau Rathaus Grefrath - Zimmerarbeiten
X-WR-TIMEZONE:Europe/Berlin
BEGIN:VEVENT
UID:a12045794dbf574f@ausschreibungsradar.com
DTSTAMP:20260425T202615Z
DTSTART;VALUE=DATE:20250814
DTEND;VALUE=DATE:20250814
SUMMARY:Angebotsfrist — Um- und Neubau Rathaus Grefrath - Zimmerarbeiten
DESCRIPTION:Phase: Ausschreibung | Beschreibung: Angebote werden eingeholt | Link: https://ausschreibungsradar.com/ausschreibung/e912f3e1-88d2-49ff-86a3-1fb148102ef1/
URL:https://ausschreibungsradar.com/ausschreibung/e912f3e1-88d2-49ff-86a3-1fb148102ef1/
END:VEVENT
BEGIN:VEVENT
UID:e81ff24966ff145c@ausschreibungsradar.com
DTSTAMP:20260425T202615Z
DTSTART;VALUE=DATE:20250701
DTEND;VALUE=DATE:20250701
SUMMARY:Ausschreibung — Um- und Neubau Rathaus Grefrath - Zimmerarbeiten
DESCRIPTION:Phase: Ausschreibung | Beschreibung: Offizielle Ausschreibung mit Bieterfrist. | Link: https://ausschreibungsradar.com/ausschreibung/81dafc38-7e3c-4a23-b87b-acebad8c9813/
URL:https://ausschreibungsradar.com/ausschreibung/81dafc38-7e3c-4a23-b87b-acebad8c9813/
END:VEVENT
BEGIN:VEVENT
UID:802c438ab29cdb78@ausschreibungsradar.com
DTSTAMP:20260425T202615Z
DTSTART;VALUE=DATE:20250701
DTEND;VALUE=DATE:20250701
SUMMARY:Zuschlag — Um- und Neubau Rathaus Grefrath - Zimmerarbeiten
DESCRIPTION:Phase: Zuschlag | Beschreibung: Vergabeergebnis — Auftrag wurde erteilt oder Verfahren beendet. | Link: https://ausschreibungsradar.com/ausschreibung/387b7c95-e06d-4e68-a6d2-e475e90fbcdd/
URL:https://ausschreibungsradar.com/ausschreibung/387b7c95-e06d-4e68-a6d2-e475e90fbcdd/
END:VEVENT
BEGIN:VEVENT
UID:017051d7a39f0863@ausschreibungsradar.com
DTSTAMP:20260425T202615Z
DTSTART;VALUE=DATE:20250822
DTEND;VALUE=DATE:20250822
SUMMARY:Vergabeergebnis — Um- und Neubau Rathaus Grefrath - Zimmerarbeiten
DESCRIPTION:Phase: Vergabeergebnis | Beschreibung: Keine Angebote eingegangen | Link: https://ausschreibungsradar.com/ausschreibung/c0afde83-1fc8-407e-ac40-a1fd3ebc86a7/
URL:https://ausschreibungsradar.com/ausschreibung/c0afde83-1fc8-407e-ac40-a1fd3ebc86a7/
END:VEVENT
END:VCALENDAR
