BEGIN:VCALENDAR
VERSION:2.0
PRODID:-//AusschreibungsRadar//Timeline//DE
CALSCALE:GREGORIAN
METHOD:PUBLISH
X-WR-CALNAME:Projekt Sanierung Windeck-Gymnasium Bühl, Baustelleneinrichtung, Abb
X-WR-TIMEZONE:Europe/Berlin
BEGIN:VEVENT
UID:e519fe9d9eb27133@ausschreibungsradar.com
DTSTAMP:20260425T104259Z
DTSTART;VALUE=DATE:20240813
DTEND;VALUE=DATE:20240813
SUMMARY:Angebotsfrist — Sanierung Windeck-Gymnasium Bühl\, Baustelleneinrichtung\, Abb
DESCRIPTION:Phase: Ausschreibung | Beschreibung: Angebote werden eingeholt | Link: https://ausschreibungsradar.com/ausschreibung/ef19b4c8-cc32-4223-a075-9bef176a9a23/
URL:https://ausschreibungsradar.com/ausschreibung/ef19b4c8-cc32-4223-a075-9bef176a9a23/
END:VEVENT
BEGIN:VEVENT
UID:85dd395e40c9db23@ausschreibungsradar.com
DTSTAMP:20260425T104259Z
DTSTART;VALUE=DATE:20241002
DTEND;VALUE=DATE:20241002
SUMMARY:Vergabeergebnis — Sanierung Windeck-Gymnasium Bühl\, Baustelleneinrichtung\, Abb
DESCRIPTION:Phase: Vergabeergebnis | Beschreibung: Verfahren beendet ohne Vergabe | Link: https://ausschreibungsradar.com/ausschreibung/e99bdbe7-d64e-4e32-951d-3afde04d6996/
URL:https://ausschreibungsradar.com/ausschreibung/e99bdbe7-d64e-4e32-951d-3afde04d6996/
END:VEVENT
END:VCALENDAR
