BEGIN:VCALENDAR
VERSION:2.0
PRODID:-//AusschreibungsRadar//Timeline//DE
CALSCALE:GREGORIAN
METHOD:PUBLISH
X-WR-CALNAME:Projekt VE 01_Objektplanung_Dr. Wilhelm Külz Platz 29
X-WR-TIMEZONE:Europe/Berlin
BEGIN:VEVENT
UID:1cbadc5bc8829904@ausschreibungsradar.com
DTSTAMP:20260426T034104Z
DTSTART;VALUE=DATE:20230927
DTEND;VALUE=DATE:20230927
SUMMARY:Ausschreibung — VE 01_Objektplanung_Dr. Wilhelm Külz Platz 29
DESCRIPTION:Phase: Ausschreibung | Beschreibung: Angebote werden eingeholt | Link: https://ausschreibungsradar.com/ausschreibung/e9d5ab18-4e97-4be7-b129-b2a2baa1b4ff/
URL:https://ausschreibungsradar.com/ausschreibung/e9d5ab18-4e97-4be7-b129-b2a2baa1b4ff/
END:VEVENT
BEGIN:VEVENT
UID:10508d6bc3f0235a@ausschreibungsradar.com
DTSTAMP:20260426T034104Z
DTSTART;VALUE=DATE:20240124
DTEND;VALUE=DATE:20240124
SUMMARY:Vergabeergebnis — VE 01_Objektplanung_Dr. Wilhelm Külz Platz 29
DESCRIPTION:Phase: Vergabeergebnis | Beschreibung: Auftrag wurde zugeschlagen | Link: https://ausschreibungsradar.com/ausschreibung/7b7f65bd-47cd-495c-805e-349469a0d297/
URL:https://ausschreibungsradar.com/ausschreibung/7b7f65bd-47cd-495c-805e-349469a0d297/
END:VEVENT
END:VCALENDAR
