BEGIN:VCALENDAR
VERSION:2.0
PRODID:-//AusschreibungsRadar//Timeline//DE
CALSCALE:GREGORIAN
METHOD:PUBLISH
X-WR-CALNAME:Projekt Sanitär+Wohnraumlüftung 
X-WR-TIMEZONE:Europe/Berlin
BEGIN:VEVENT
UID:d139478eef7fda92@ausschreibungsradar.com
DTSTAMP:20260426T004815Z
DTSTART;VALUE=DATE:20251104
DTEND;VALUE=DATE:20251104
SUMMARY:Angebotsfrist — Sanitär+Wohnraumlüftung 
DESCRIPTION:Phase: Ausschreibung | Beschreibung: Angebote werden eingeholt | Link: https://ausschreibungsradar.com/ausschreibung/ea408412-0304-45d5-b65e-d5d4610b6895/
URL:https://ausschreibungsradar.com/ausschreibung/ea408412-0304-45d5-b65e-d5d4610b6895/
END:VEVENT
BEGIN:VEVENT
UID:998a95171bcae4fd@ausschreibungsradar.com
DTSTAMP:20260426T004815Z
DTSTART;VALUE=DATE:20251010
DTEND;VALUE=DATE:20251010
SUMMARY:Ausschreibung — Sanitär+Wohnraumlüftung 
DESCRIPTION:Phase: Ausschreibung | Beschreibung: Offizielle Ausschreibung mit Bieterfrist. | Link: https://ausschreibungsradar.com/ausschreibung/f6aed4c0-0914-4552-9733-feeed2f949e9/
URL:https://ausschreibungsradar.com/ausschreibung/f6aed4c0-0914-4552-9733-feeed2f949e9/
END:VEVENT
END:VCALENDAR
