BEGIN:VCALENDAR
VERSION:2.0
PRODID:-//AusschreibungsRadar//Timeline//DE
CALSCALE:GREGORIAN
METHOD:PUBLISH
X-WR-CALNAME:Projekt AE - Teilneubau der Grundschule Groß Berkel - Heizungsarbeit
X-WR-TIMEZONE:Europe/Berlin
BEGIN:VEVENT
UID:1561e2063cef552a@ausschreibungsradar.com
DTSTAMP:20260425T021146Z
DTSTART;VALUE=DATE:20250122
DTEND;VALUE=DATE:20250122
SUMMARY:Zuschlag — AE - Teilneubau der Grundschule Groß Berkel - Heizungsarbeit
DESCRIPTION:Phase: Zuschlag | Beschreibung: Vergabeergebnis — Auftrag wurde erteilt oder Verfahren beendet. | Link: https://ausschreibungsradar.com/ausschreibung/abf414ed-4b77-4ace-9ccf-f255cd094b64/
URL:https://ausschreibungsradar.com/ausschreibung/abf414ed-4b77-4ace-9ccf-f255cd094b64/
END:VEVENT
BEGIN:VEVENT
UID:ca9bb209d3cf1190@ausschreibungsradar.com
DTSTAMP:20260425T021146Z
DTSTART;VALUE=DATE:20250225
DTEND;VALUE=DATE:20250225
SUMMARY:Angebotsfrist — AE - Teilneubau der Grundschule Groß Berkel - Heizungsarbeit
DESCRIPTION:Phase: Ausschreibung | Beschreibung: Angebote werden eingeholt | Link: https://ausschreibungsradar.com/ausschreibung/ea613762-4695-44f2-9be1-993af6e5d433/
URL:https://ausschreibungsradar.com/ausschreibung/ea613762-4695-44f2-9be1-993af6e5d433/
END:VEVENT
BEGIN:VEVENT
UID:6b772271118f59f1@ausschreibungsradar.com
DTSTAMP:20260425T021146Z
DTSTART;VALUE=DATE:20250124
DTEND;VALUE=DATE:20250124
SUMMARY:Ausschreibung — AE - Teilneubau der Grundschule Groß Berkel - Heizungsarbeit
DESCRIPTION:Phase: Ausschreibung | Beschreibung: Offizielle Ausschreibung mit Bieterfrist. | Link: https://ausschreibungsradar.com/ausschreibung/cea31e09-277f-407d-a503-999099d81458/
URL:https://ausschreibungsradar.com/ausschreibung/cea31e09-277f-407d-a503-999099d81458/
END:VEVENT
BEGIN:VEVENT
UID:53fec7361f178a02@ausschreibungsradar.com
DTSTAMP:20260425T021146Z
DTSTART;VALUE=DATE:20250416
DTEND;VALUE=DATE:20250416
SUMMARY:Vergabeergebnis — AE - Teilneubau der Grundschule Groß Berkel - Heizungsarbeit
DESCRIPTION:Phase: Vergabeergebnis | Beschreibung: Auftrag wurde zugeschlagen | Link: https://ausschreibungsradar.com/ausschreibung/ccd441c5-c2f9-4828-b886-818922387090/
URL:https://ausschreibungsradar.com/ausschreibung/ccd441c5-c2f9-4828-b886-818922387090/
END:VEVENT
END:VCALENDAR
