BEGIN:VCALENDAR
VERSION:2.0
PRODID:-//AusschreibungsRadar//Timeline//DE
CALSCALE:GREGORIAN
METHOD:PUBLISH
X-WR-CALNAME:Projekt Rahmenvertrag Transport Musikinstrumente für MDR Klassik
X-WR-TIMEZONE:Europe/Berlin
BEGIN:VEVENT
UID:a96755213bc65cdc@ausschreibungsradar.com
DTSTAMP:20260425T105827Z
DTSTART;VALUE=DATE:20251021
DTEND;VALUE=DATE:20251021
SUMMARY:Angebotsfrist — Rahmenvertrag Transport Musikinstrumente für MDR Klassik
DESCRIPTION:Phase: Ausschreibung | Beschreibung: Angebote werden eingeholt | Link: https://ausschreibungsradar.com/ausschreibung/1e5cc5d8-ab22-4524-b7ec-09ce004d6453/
URL:https://ausschreibungsradar.com/ausschreibung/1e5cc5d8-ab22-4524-b7ec-09ce004d6453/
END:VEVENT
BEGIN:VEVENT
UID:164102c0e491fc89@ausschreibungsradar.com
DTSTAMP:20260425T105827Z
DTSTART;VALUE=DATE:20251127
DTEND;VALUE=DATE:20251127
SUMMARY:Vergabeergebnis — Rahmenvertrag Transport Musikinstrumente für MDR Klassik
DESCRIPTION:Phase: Vergabeergebnis | Beschreibung: Auftrag wurde zugeschlagen | Link: https://ausschreibungsradar.com/ausschreibung/eb350ea1-a5c6-4fa9-bf6e-cd4ca2463aff/
URL:https://ausschreibungsradar.com/ausschreibung/eb350ea1-a5c6-4fa9-bf6e-cd4ca2463aff/
END:VEVENT
END:VCALENDAR
