BEGIN:VCALENDAR
VERSION:2.0
PRODID:-//AusschreibungsRadar//Timeline//DE
CALSCALE:GREGORIAN
METHOD:PUBLISH
X-WR-CALNAME:Projekt Regionalmanagement "Kreislaufwirtschaft in der Bioökonomie" 
X-WR-TIMEZONE:Europe/Berlin
BEGIN:VEVENT
UID:16616f859677d0bf@ausschreibungsradar.com
DTSTAMP:20260424T043103Z
DTSTART;VALUE=DATE:20251007
DTEND;VALUE=DATE:20251007
SUMMARY:Ausschreibung — Regionalmanagement "Kreislaufwirtschaft in der Bioökonomie" 
DESCRIPTION:Phase: Ausschreibung | Beschreibung: Angebote werden eingeholt | Link: https://ausschreibungsradar.com/ausschreibung/45796fc1-135a-44d6-bf27-2412ece69a19/
URL:https://ausschreibungsradar.com/ausschreibung/45796fc1-135a-44d6-bf27-2412ece69a19/
END:VEVENT
BEGIN:VEVENT
UID:4d799630ec43ca27@ausschreibungsradar.com
DTSTAMP:20260424T043103Z
DTSTART;VALUE=DATE:20251127
DTEND;VALUE=DATE:20251127
SUMMARY:Vergabeergebnis — Regionalmanagement "Kreislaufwirtschaft in der Bioökonomie" 
DESCRIPTION:Phase: Vergabeergebnis | Beschreibung: Auftrag wurde zugeschlagen | Link: https://ausschreibungsradar.com/ausschreibung/eba9ee1a-91c9-41b4-b399-2c78cc71732c/
URL:https://ausschreibungsradar.com/ausschreibung/eba9ee1a-91c9-41b4-b399-2c78cc71732c/
END:VEVENT
END:VCALENDAR
