BEGIN:VCALENDAR
VERSION:2.0
PRODID:-//AusschreibungsRadar//Timeline//DE
CALSCALE:GREGORIAN
METHOD:PUBLISH
X-WR-CALNAME:Projekt VG Wissen - Sanierung Sporthalle an der Franziskus Grundschu
X-WR-TIMEZONE:Europe/Berlin
BEGIN:VEVENT
UID:5059399b1bd95b26@ausschreibungsradar.com
DTSTAMP:20260424T062544Z
DTSTART;VALUE=DATE:20231114
DTEND;VALUE=DATE:20231114
SUMMARY:Ausschreibung — VG Wissen - Sanierung Sporthalle an der Franziskus Grundschu
DESCRIPTION:Phase: Ausschreibung | Beschreibung: Angebote werden eingeholt | Link: https://ausschreibungsradar.com/ausschreibung/ebc5d3f2-d06c-4c63-83fd-baf537781349/
URL:https://ausschreibungsradar.com/ausschreibung/ebc5d3f2-d06c-4c63-83fd-baf537781349/
END:VEVENT
BEGIN:VEVENT
UID:43c54745e23414e0@ausschreibungsradar.com
DTSTAMP:20260424T062544Z
DTSTART;VALUE=DATE:20231114
DTEND;VALUE=DATE:20231114
SUMMARY:Ausschreibung — VG Wissen - Sanierung Sporthalle an der Franziskus Grundschu
DESCRIPTION:Phase: Ausschreibung | Beschreibung: Offizielle Ausschreibung mit Bieterfrist. | Link: https://ausschreibungsradar.com/ausschreibung/8cd32722-1ada-450e-9bce-ff55dbcf9453/
URL:https://ausschreibungsradar.com/ausschreibung/8cd32722-1ada-450e-9bce-ff55dbcf9453/
END:VEVENT
BEGIN:VEVENT
UID:9fc9891067c776fa@ausschreibungsradar.com
DTSTAMP:20260424T062544Z
DTSTART;VALUE=DATE:20231114
DTEND;VALUE=DATE:20231114
SUMMARY:Ausschreibung — VG Wissen - Sanierung Sporthalle an der Franziskus Grundschu
DESCRIPTION:Phase: Ausschreibung | Beschreibung: Offizielle Ausschreibung mit Bieterfrist. | Link: https://ausschreibungsradar.com/ausschreibung/a7a7fc6b-804d-4cf9-b872-0cec727188be/
URL:https://ausschreibungsradar.com/ausschreibung/a7a7fc6b-804d-4cf9-b872-0cec727188be/
END:VEVENT
BEGIN:VEVENT
UID:0614c234e769140d@ausschreibungsradar.com
DTSTAMP:20260424T062544Z
DTSTART;VALUE=DATE:20231114
DTEND;VALUE=DATE:20231114
SUMMARY:Ausschreibung — VG Wissen - Sanierung Sporthalle an der Franziskus Grundschu
DESCRIPTION:Phase: Ausschreibung | Beschreibung: Offizielle Ausschreibung mit Bieterfrist. | Link: https://ausschreibungsradar.com/ausschreibung/a7fbcb69-ea65-4b12-8f1f-fbc0ed8ecf4a/
URL:https://ausschreibungsradar.com/ausschreibung/a7fbcb69-ea65-4b12-8f1f-fbc0ed8ecf4a/
END:VEVENT
BEGIN:VEVENT
UID:7ace3f2236c18bf7@ausschreibungsradar.com
DTSTAMP:20260424T062544Z
DTSTART;VALUE=DATE:20231114
DTEND;VALUE=DATE:20231114
SUMMARY:Ausschreibung — VG Wissen - Sanierung Sporthalle an der Franziskus Grundschu
DESCRIPTION:Phase: Ausschreibung | Beschreibung: Offizielle Ausschreibung mit Bieterfrist. | Link: https://ausschreibungsradar.com/ausschreibung/167bcad2-a5b2-4811-8302-7fd37b65792f/
URL:https://ausschreibungsradar.com/ausschreibung/167bcad2-a5b2-4811-8302-7fd37b65792f/
END:VEVENT
BEGIN:VEVENT
UID:dde869e26fc73bac@ausschreibungsradar.com
DTSTAMP:20260424T062544Z
DTSTART;VALUE=DATE:20240826
DTEND;VALUE=DATE:20240826
SUMMARY:Vergabeergebnis — VG Wissen - Sanierung Sporthalle an der Franziskus Grundschu
DESCRIPTION:Phase: Vergabeergebnis | Beschreibung: Auftrag wurde zugeschlagen | Link: https://ausschreibungsradar.com/ausschreibung/de18686d-4b9a-4ab4-be0a-e6b24432f87b/
URL:https://ausschreibungsradar.com/ausschreibung/de18686d-4b9a-4ab4-be0a-e6b24432f87b/
END:VEVENT
END:VCALENDAR
