BEGIN:VCALENDAR
VERSION:2.0
PRODID:-//AusschreibungsRadar//Timeline//DE
CALSCALE:GREGORIAN
METHOD:PUBLISH
X-WR-CALNAME:Projekt Neubau Feuerwehrhaus Perleberg- Los 5.03 Freianlagen
X-WR-TIMEZONE:Europe/Berlin
BEGIN:VEVENT
UID:971367d681ee504f@ausschreibungsradar.com
DTSTAMP:20260425T230308Z
DTSTART;VALUE=DATE:20250731
DTEND;VALUE=DATE:20250731
SUMMARY:Angebotsfrist — Neubau Feuerwehrhaus Perleberg- Los 5.03 Freianlagen
DESCRIPTION:Phase: Ausschreibung | Beschreibung: Angebote werden eingeholt | Link: https://ausschreibungsradar.com/ausschreibung/6375cc57-7899-43e9-a3b5-a4a90693d300/ | Geschätzter Wert: 913977 €
URL:https://ausschreibungsradar.com/ausschreibung/6375cc57-7899-43e9-a3b5-a4a90693d300/
END:VEVENT
BEGIN:VEVENT
UID:89c1b415865ae612@ausschreibungsradar.com
DTSTAMP:20260425T230308Z
DTSTART;VALUE=DATE:20250729
DTEND;VALUE=DATE:20250729
SUMMARY:Ausschreibung — Neubau Feuerwehrhaus Perleberg- Los 5.03 Freianlagen
DESCRIPTION:Phase: Ausschreibung | Beschreibung: Offizielle Ausschreibung mit Bieterfrist. | Link: https://ausschreibungsradar.com/ausschreibung/776ef25d-fef4-47df-88d1-9041921f7089/
URL:https://ausschreibungsradar.com/ausschreibung/776ef25d-fef4-47df-88d1-9041921f7089/
END:VEVENT
BEGIN:VEVENT
UID:6f51718e8ea2c2fa@ausschreibungsradar.com
DTSTAMP:20260425T230308Z
DTSTART;VALUE=DATE:20250813
DTEND;VALUE=DATE:20250813
SUMMARY:Zuschlag — Neubau Feuerwehrhaus Perleberg- Los 5.03 Freianlagen
DESCRIPTION:Phase: Zuschlag | Beschreibung: Vergabeergebnis — Auftrag wurde erteilt oder Verfahren beendet. | Link: https://ausschreibungsradar.com/ausschreibung/8017df9a-343e-4253-a689-2f8f4e35972c/
URL:https://ausschreibungsradar.com/ausschreibung/8017df9a-343e-4253-a689-2f8f4e35972c/
END:VEVENT
BEGIN:VEVENT
UID:d193725312122b71@ausschreibungsradar.com
DTSTAMP:20260425T230308Z
DTSTART;VALUE=DATE:20250826
DTEND;VALUE=DATE:20250826
SUMMARY:Vergabeergebnis — Neubau Feuerwehrhaus Perleberg- Los 5.03 Freianlagen
DESCRIPTION:Phase: Vergabeergebnis | Beschreibung: Auftrag wurde zugeschlagen | Link: https://ausschreibungsradar.com/ausschreibung/ec7b2d3c-91d8-4d81-8bda-c49309f9c33c/ | Geschätzter Wert: 913977 €
URL:https://ausschreibungsradar.com/ausschreibung/ec7b2d3c-91d8-4d81-8bda-c49309f9c33c/
END:VEVENT
END:VCALENDAR
