BEGIN:VCALENDAR
VERSION:2.0
PRODID:-//AusschreibungsRadar//Timeline//DE
CALSCALE:GREGORIAN
METHOD:PUBLISH
X-WR-CALNAME:Projekt Sanierung/Ertüchtigung Dr.-Eisenbarth-Grundschule in Obervie
X-WR-TIMEZONE:Europe/Berlin
BEGIN:VEVENT
UID:9fa412416a2b7a95@ausschreibungsradar.com
DTSTAMP:20260426T005844Z
DTSTART;VALUE=DATE:20240709
DTEND;VALUE=DATE:20240709
SUMMARY:Ausschreibung — Sanierung/Ertüchtigung Dr.-Eisenbarth-Grundschule in Obervie
DESCRIPTION:Phase: Ausschreibung | Beschreibung: Angebote werden eingeholt | Link: https://ausschreibungsradar.com/ausschreibung/edeec0af-7b96-4d20-81e3-605cd0e6a20f/
URL:https://ausschreibungsradar.com/ausschreibung/edeec0af-7b96-4d20-81e3-605cd0e6a20f/
END:VEVENT
BEGIN:VEVENT
UID:a9c01b5395df3eb8@ausschreibungsradar.com
DTSTAMP:20260426T005844Z
DTSTART;VALUE=DATE:20240709
DTEND;VALUE=DATE:20240709
SUMMARY:Ausschreibung — Sanierung/Ertüchtigung Dr.-Eisenbarth-Grundschule in Obervie
DESCRIPTION:Phase: Ausschreibung | Beschreibung: Offizielle Ausschreibung mit Bieterfrist. | Link: https://ausschreibungsradar.com/ausschreibung/0ddee6f4-8b5c-49d7-8b98-b3cba35e5ce8/
URL:https://ausschreibungsradar.com/ausschreibung/0ddee6f4-8b5c-49d7-8b98-b3cba35e5ce8/
END:VEVENT
BEGIN:VEVENT
UID:d2ff7e3ba380ff75@ausschreibungsradar.com
DTSTAMP:20260426T005844Z
DTSTART;VALUE=DATE:20240709
DTEND;VALUE=DATE:20240709
SUMMARY:Ausschreibung — Sanierung/Ertüchtigung Dr.-Eisenbarth-Grundschule in Obervie
DESCRIPTION:Phase: Ausschreibung | Beschreibung: Offizielle Ausschreibung mit Bieterfrist. | Link: https://ausschreibungsradar.com/ausschreibung/2357776f-7274-4cfb-8d0f-136e211c5bfe/
URL:https://ausschreibungsradar.com/ausschreibung/2357776f-7274-4cfb-8d0f-136e211c5bfe/
END:VEVENT
END:VCALENDAR
