BEGIN:VCALENDAR
VERSION:2.0
PRODID:-//AusschreibungsRadar//Timeline//DE
CALSCALE:GREGORIAN
METHOD:PUBLISH
X-WR-CALNAME:Projekt BvA_ELT_Gemeinde Moosthenning_Neubau Kindertagesstätte in Un
X-WR-TIMEZONE:Europe/Berlin
BEGIN:VEVENT
UID:f6835b076822beae@ausschreibungsradar.com
DTSTAMP:20260424T143756Z
DTSTART;VALUE=DATE:20250313
DTEND;VALUE=DATE:20250313
SUMMARY:Ausschreibung — BvA_ELT_Gemeinde Moosthenning_Neubau Kindertagesstätte in Un
DESCRIPTION:Phase: Ausschreibung | Beschreibung: Angebote werden eingeholt | Link: https://ausschreibungsradar.com/ausschreibung/6f37a142-9676-49a7-87b3-f93af0dac632/
URL:https://ausschreibungsradar.com/ausschreibung/6f37a142-9676-49a7-87b3-f93af0dac632/
END:VEVENT
BEGIN:VEVENT
UID:6a8507e1459fa6aa@ausschreibungsradar.com
DTSTAMP:20260424T143756Z
DTSTART;VALUE=DATE:20250313
DTEND;VALUE=DATE:20250313
SUMMARY:Ausschreibung — BvA_ELT_Gemeinde Moosthenning_Neubau Kindertagesstätte in Un
DESCRIPTION:Phase: Ausschreibung | Beschreibung: Offizielle Ausschreibung mit Bieterfrist. | Link: https://ausschreibungsradar.com/ausschreibung/b8c6ece9-6b23-4cc3-81c4-abeafd743ee8/
URL:https://ausschreibungsradar.com/ausschreibung/b8c6ece9-6b23-4cc3-81c4-abeafd743ee8/
END:VEVENT
BEGIN:VEVENT
UID:f845e67110b94d64@ausschreibungsradar.com
DTSTAMP:20260424T143756Z
DTSTART;VALUE=DATE:20250717
DTEND;VALUE=DATE:20250717
SUMMARY:Vergabeergebnis — BvA_ELT_Gemeinde Moosthenning_Neubau Kindertagesstätte in Un
DESCRIPTION:Phase: Vergabeergebnis | Beschreibung: Auftrag wurde zugeschlagen | Link: https://ausschreibungsradar.com/ausschreibung/edfd3ffe-9412-45fd-875c-e8b876e591eb/
URL:https://ausschreibungsradar.com/ausschreibung/edfd3ffe-9412-45fd-875c-e8b876e591eb/
END:VEVENT
BEGIN:VEVENT
UID:d34a53dfd67c7998@ausschreibungsradar.com
DTSTAMP:20260424T143756Z
DTSTART;VALUE=DATE:20250717
DTEND;VALUE=DATE:20250717
SUMMARY:Zuschlag — BvA_ELT_Gemeinde Moosthenning_Neubau Kindertagesstätte in Un
DESCRIPTION:Phase: Zuschlag | Beschreibung: Vergabeergebnis — Auftrag wurde erteilt oder Verfahren beendet. | Link: https://ausschreibungsradar.com/ausschreibung/b492f9cf-d121-4278-b03a-ca94a0aafbeb/
URL:https://ausschreibungsradar.com/ausschreibung/b492f9cf-d121-4278-b03a-ca94a0aafbeb/
END:VEVENT
BEGIN:VEVENT
UID:9ae4fe8ef32905f7@ausschreibungsradar.com
DTSTAMP:20260424T143756Z
DTSTART;VALUE=DATE:20250717
DTEND;VALUE=DATE:20250717
SUMMARY:Zuschlag — BvA_ELT_Gemeinde Moosthenning_Neubau Kindertagesstätte in Un
DESCRIPTION:Phase: Zuschlag | Beschreibung: Vergabeergebnis — Auftrag wurde erteilt oder Verfahren beendet. | Link: https://ausschreibungsradar.com/ausschreibung/6f9bd07b-cff2-4afc-b10b-089056114874/
URL:https://ausschreibungsradar.com/ausschreibung/6f9bd07b-cff2-4afc-b10b-089056114874/
END:VEVENT
END:VCALENDAR
