BEGIN:VCALENDAR
VERSION:2.0
PRODID:-//AusschreibungsRadar//Timeline//DE
CALSCALE:GREGORIAN
METHOD:PUBLISH
X-WR-CALNAME:Projekt Beschaffung von sechs KTW (Krankentransportwagen)
X-WR-TIMEZONE:Europe/Berlin
BEGIN:VEVENT
UID:8237ec86d226adf4@ausschreibungsradar.com
DTSTAMP:20260426T012001Z
DTSTART;VALUE=DATE:20240702
DTEND;VALUE=DATE:20240702
SUMMARY:Angebotsfrist — Beschaffung von sechs KTW (Krankentransportwagen)
DESCRIPTION:Phase: Ausschreibung | Beschreibung: Angebote werden eingeholt | Link: https://ausschreibungsradar.com/ausschreibung/eedcbcc7-440e-439a-98a8-d0d68cd43a86/
URL:https://ausschreibungsradar.com/ausschreibung/eedcbcc7-440e-439a-98a8-d0d68cd43a86/
END:VEVENT
BEGIN:VEVENT
UID:a759ad89a9da416b@ausschreibungsradar.com
DTSTAMP:20260426T012001Z
DTSTART;VALUE=DATE:20240517
DTEND;VALUE=DATE:20240517
SUMMARY:Ausschreibung — Beschaffung von sechs KTW (Krankentransportwagen)
DESCRIPTION:Phase: Ausschreibung | Beschreibung: Offizielle Ausschreibung mit Bieterfrist. | Link: https://ausschreibungsradar.com/ausschreibung/d25f8119-d491-4e76-b8e1-18c639c53ccc/
URL:https://ausschreibungsradar.com/ausschreibung/d25f8119-d491-4e76-b8e1-18c639c53ccc/
END:VEVENT
BEGIN:VEVENT
UID:76d503569f1685a5@ausschreibungsradar.com
DTSTAMP:20260426T012001Z
DTSTART;VALUE=DATE:20240517
DTEND;VALUE=DATE:20240517
SUMMARY:Ausschreibung — Beschaffung von sechs KTW (Krankentransportwagen)
DESCRIPTION:Phase: Ausschreibung | Beschreibung: Offizielle Ausschreibung mit Bieterfrist. | Link: https://ausschreibungsradar.com/ausschreibung/b1be617c-514f-4425-a7c8-a68f5dd7c232/
URL:https://ausschreibungsradar.com/ausschreibung/b1be617c-514f-4425-a7c8-a68f5dd7c232/
END:VEVENT
BEGIN:VEVENT
UID:9b010249552f3e72@ausschreibungsradar.com
DTSTAMP:20260426T012001Z
DTSTART;VALUE=DATE:20240521
DTEND;VALUE=DATE:20240521
SUMMARY:Ausschreibung — Beschaffung von sechs KTW (Krankentransportwagen)
DESCRIPTION:Phase: Ausschreibung | Beschreibung: Offizielle Ausschreibung mit Bieterfrist. | Link: https://ausschreibungsradar.com/ausschreibung/ted-296056-2024/
URL:https://ausschreibungsradar.com/ausschreibung/ted-296056-2024/
END:VEVENT
BEGIN:VEVENT
UID:069daead52305351@ausschreibungsradar.com
DTSTAMP:20260426T012001Z
DTSTART;VALUE=DATE:20240710
DTEND;VALUE=DATE:20240710
SUMMARY:Vergabeergebnis — Beschaffung von sechs KTW (Krankentransportwagen)
DESCRIPTION:Phase: Vergabeergebnis | Beschreibung: Auftrag wurde zugeschlagen | Link: https://ausschreibungsradar.com/ausschreibung/4380ce26-b3ca-42dd-95ad-b59efc263866/
URL:https://ausschreibungsradar.com/ausschreibung/4380ce26-b3ca-42dd-95ad-b59efc263866/
END:VEVENT
END:VCALENDAR
