BEGIN:VCALENDAR
VERSION:2.0
PRODID:-//AusschreibungsRadar//Timeline//DE
CALSCALE:GREGORIAN
METHOD:PUBLISH
X-WR-CALNAME:Projekt Fachplanungsleistung Tragwerksplanung §§ 49 ff HOAI in den L
X-WR-TIMEZONE:Europe/Berlin
BEGIN:VEVENT
UID:b8732d94dc94aa77@ausschreibungsradar.com
DTSTAMP:20260426T042924Z
DTSTART;VALUE=DATE:20251030
DTEND;VALUE=DATE:20251030
SUMMARY:Ausschreibung — Fachplanungsleistung Tragwerksplanung §§ 49 ff HOAI in den L
DESCRIPTION:Phase: Ausschreibung | Beschreibung: Angebote werden eingeholt | Link: https://ausschreibungsradar.com/ausschreibung/ef1ad27f-41a3-4559-8772-c2a45988f621/
URL:https://ausschreibungsradar.com/ausschreibung/ef1ad27f-41a3-4559-8772-c2a45988f621/
END:VEVENT
BEGIN:VEVENT
UID:661e1fde2ba6c3f5@ausschreibungsradar.com
DTSTAMP:20260426T042924Z
DTSTART;VALUE=DATE:20251030
DTEND;VALUE=DATE:20251030
SUMMARY:Ausschreibung — Fachplanungsleistung Tragwerksplanung §§ 49 ff HOAI in den L
DESCRIPTION:Phase: Ausschreibung | Beschreibung: Offizielle Ausschreibung mit Bieterfrist. | Link: https://ausschreibungsradar.com/ausschreibung/11ade2ce-4156-41bb-a9ac-c6c669820314/
URL:https://ausschreibungsradar.com/ausschreibung/11ade2ce-4156-41bb-a9ac-c6c669820314/
END:VEVENT
BEGIN:VEVENT
UID:51bda235cb5b5aad@ausschreibungsradar.com
DTSTAMP:20260426T042924Z
DTSTART;VALUE=DATE:20251030
DTEND;VALUE=DATE:20251030
SUMMARY:Ausschreibung — Fachplanungsleistung Tragwerksplanung §§ 49 ff HOAI in den L
DESCRIPTION:Phase: Ausschreibung | Beschreibung: Offizielle Ausschreibung mit Bieterfrist. | Link: https://ausschreibungsradar.com/ausschreibung/ca939ad3-5e20-4c9d-9a97-8a027af5ea81/
URL:https://ausschreibungsradar.com/ausschreibung/ca939ad3-5e20-4c9d-9a97-8a027af5ea81/
END:VEVENT
BEGIN:VEVENT
UID:b3a58a6a0132b828@ausschreibungsradar.com
DTSTAMP:20260426T042924Z
DTSTART;VALUE=DATE:20251030
DTEND;VALUE=DATE:20251030
SUMMARY:Ausschreibung — Fachplanungsleistung Tragwerksplanung §§ 49 ff HOAI in den L
DESCRIPTION:Phase: Ausschreibung | Beschreibung: Offizielle Ausschreibung mit Bieterfrist. | Link: https://ausschreibungsradar.com/ausschreibung/8d5b4f09-80c6-4de0-99ff-108677570fee/
URL:https://ausschreibungsradar.com/ausschreibung/8d5b4f09-80c6-4de0-99ff-108677570fee/
END:VEVENT
BEGIN:VEVENT
UID:4f33e5e474e00fb2@ausschreibungsradar.com
DTSTAMP:20260426T042924Z
DTSTART;VALUE=DATE:20260224
DTEND;VALUE=DATE:20260224
SUMMARY:Vergabeergebnis — Fachplanungsleistung Tragwerksplanung §§ 49 ff HOAI in den L
DESCRIPTION:Phase: Vergabeergebnis | Beschreibung: Auftrag wurde zugeschlagen | Link: https://ausschreibungsradar.com/ausschreibung/25ef9944-c7b4-497f-91b6-6c52ffcdfac6/
URL:https://ausschreibungsradar.com/ausschreibung/25ef9944-c7b4-497f-91b6-6c52ffcdfac6/
END:VEVENT
END:VCALENDAR
