BEGIN:VCALENDAR
VERSION:2.0
PRODID:-//AusschreibungsRadar//Timeline//DE
CALSCALE:GREGORIAN
METHOD:PUBLISH
X-WR-CALNAME:Projekt bonnorange AöR - Leerung, Reinigung und Entsorgung der Inhal
X-WR-TIMEZONE:Europe/Berlin
BEGIN:VEVENT
UID:1fbd2c2734357cdd@ausschreibungsradar.com
DTSTAMP:20260423T223436Z
DTSTART;VALUE=DATE:20251127
DTEND;VALUE=DATE:20251127
SUMMARY:Angebotsfrist — bonnorange AöR - Leerung\, Reinigung und Entsorgung der Inhal
DESCRIPTION:Phase: Ausschreibung | Beschreibung: Angebote werden eingeholt | Link: https://ausschreibungsradar.com/ausschreibung/ef34a9a3-dcbe-4d0f-b08c-b453b8e2299f/
URL:https://ausschreibungsradar.com/ausschreibung/ef34a9a3-dcbe-4d0f-b08c-b453b8e2299f/
END:VEVENT
BEGIN:VEVENT
UID:fe15721ed0763c88@ausschreibungsradar.com
DTSTAMP:20260423T223436Z
DTSTART;VALUE=DATE:20251216
DTEND;VALUE=DATE:20251216
SUMMARY:Vergabeergebnis — bonnorange AöR - Leerung\, Reinigung und Entsorgung der Inhal
DESCRIPTION:Phase: Vergabeergebnis | Beschreibung: Auftrag wurde zugeschlagen | Link: https://ausschreibungsradar.com/ausschreibung/b51b3acd-533e-47b5-b02e-46df43d2f4aa/
URL:https://ausschreibungsradar.com/ausschreibung/b51b3acd-533e-47b5-b02e-46df43d2f4aa/
END:VEVENT
END:VCALENDAR
