BEGIN:VCALENDAR
VERSION:2.0
PRODID:-//AusschreibungsRadar//Timeline//DE
CALSCALE:GREGORIAN
METHOD:PUBLISH
X-WR-CALNAME:Projekt RV CISCO-Netzwerkkomponenten: Achern Neubau Klinikgebäude 81
X-WR-TIMEZONE:Europe/Berlin
BEGIN:VEVENT
UID:8ce3578fc609387d@ausschreibungsradar.com
DTSTAMP:20260425T151725Z
DTSTART;VALUE=DATE:20260327
DTEND;VALUE=DATE:20260327
SUMMARY:Angebotsfrist — RV CISCO-Netzwerkkomponenten: Achern Neubau Klinikgebäude 81
DESCRIPTION:Phase: Ausschreibung | Beschreibung: Angebote werden eingeholt | Link: https://ausschreibungsradar.com/ausschreibung/efa97b33-fa6a-4b46-910a-50925df44154/
URL:https://ausschreibungsradar.com/ausschreibung/efa97b33-fa6a-4b46-910a-50925df44154/
END:VEVENT
BEGIN:VEVENT
UID:4be3e5c9432e1680@ausschreibungsradar.com
DTSTAMP:20260425T151725Z
DTSTART;VALUE=DATE:20260126
DTEND;VALUE=DATE:20260126
SUMMARY:Ausschreibung — RV CISCO-Netzwerkkomponenten: Achern Neubau Klinikgebäude 81
DESCRIPTION:Phase: Ausschreibung | Beschreibung: Offizielle Ausschreibung mit Bieterfrist. | Link: https://ausschreibungsradar.com/ausschreibung/1c3cde67-600c-475b-84bf-e4a8b5579cde/
URL:https://ausschreibungsradar.com/ausschreibung/1c3cde67-600c-475b-84bf-e4a8b5579cde/
END:VEVENT
BEGIN:VEVENT
UID:728d80e05a6dc3ad@ausschreibungsradar.com
DTSTAMP:20260425T151725Z
DTSTART;VALUE=DATE:20260126
DTEND;VALUE=DATE:20260126
SUMMARY:Ausschreibung — RV CISCO-Netzwerkkomponenten: Achern Neubau Klinikgebäude 81
DESCRIPTION:Phase: Ausschreibung | Beschreibung: Offizielle Ausschreibung mit Bieterfrist. | Link: https://ausschreibungsradar.com/ausschreibung/63da8e7e-15cc-4da4-9473-ae38e4a26e79/
URL:https://ausschreibungsradar.com/ausschreibung/63da8e7e-15cc-4da4-9473-ae38e4a26e79/
END:VEVENT
BEGIN:VEVENT
UID:32eff988202f9dd2@ausschreibungsradar.com
DTSTAMP:20260425T151725Z
DTSTART;VALUE=DATE:20260126
DTEND;VALUE=DATE:20260126
SUMMARY:Ausschreibung — RV CISCO-Netzwerkkomponenten: Achern Neubau Klinikgebäude 81
DESCRIPTION:Phase: Ausschreibung | Beschreibung: Offizielle Ausschreibung mit Bieterfrist. | Link: https://ausschreibungsradar.com/ausschreibung/8dfc487a-64e3-4dae-92fe-81baa4a9172d/
URL:https://ausschreibungsradar.com/ausschreibung/8dfc487a-64e3-4dae-92fe-81baa4a9172d/
END:VEVENT
BEGIN:VEVENT
UID:6e429712fc51f4bf@ausschreibungsradar.com
DTSTAMP:20260425T151725Z
DTSTART;VALUE=DATE:20260126
DTEND;VALUE=DATE:20260126
SUMMARY:Ausschreibung — RV CISCO-Netzwerkkomponenten: Achern Neubau Klinikgebäude 81
DESCRIPTION:Phase: Ausschreibung | Beschreibung: Offizielle Ausschreibung mit Bieterfrist. | Link: https://ausschreibungsradar.com/ausschreibung/39733c89-f130-4fa2-8976-44950e119751/
URL:https://ausschreibungsradar.com/ausschreibung/39733c89-f130-4fa2-8976-44950e119751/
END:VEVENT
END:VCALENDAR
