BEGIN:VCALENDAR
VERSION:2.0
PRODID:-//AusschreibungsRadar//Timeline//DE
CALSCALE:GREGORIAN
METHOD:PUBLISH
X-WR-CALNAME:Projekt Sanitär
X-WR-TIMEZONE:Europe/Berlin
BEGIN:VEVENT
UID:3e914665d57f2877@ausschreibungsradar.com
DTSTAMP:20260425T202349Z
DTSTART;VALUE=DATE:20260211
DTEND;VALUE=DATE:20260211
SUMMARY:Vertragsmodifikation — Sanitär
DESCRIPTION:Phase: Vertragsmodifikation | Beschreibung: Änderung am bestehenden Vertrag nach Zuschlag. | Link: https://ausschreibungsradar.com/ausschreibung/efe2c9c1-29a0-49eb-a5e9-508c509e64e1/
URL:https://ausschreibungsradar.com/ausschreibung/efe2c9c1-29a0-49eb-a5e9-508c509e64e1/
END:VEVENT
BEGIN:VEVENT
UID:7f2e447feb64cfb2@ausschreibungsradar.com
DTSTAMP:20260425T202349Z
DTSTART;VALUE=DATE:20260220
DTEND;VALUE=DATE:20260220
SUMMARY:Vertragsmodifikation — Sanitär
DESCRIPTION:Phase: Vertragsmodifikation | Beschreibung: Änderung am bestehenden Vertrag nach Zuschlag. | Link: https://ausschreibungsradar.com/ausschreibung/d3c24566-d55d-4d84-9485-48ae27e0edcd/
URL:https://ausschreibungsradar.com/ausschreibung/d3c24566-d55d-4d84-9485-48ae27e0edcd/
END:VEVENT
BEGIN:VEVENT
UID:b184b041cc19a62a@ausschreibungsradar.com
DTSTAMP:20260425T202349Z
DTSTART;VALUE=DATE:20260311
DTEND;VALUE=DATE:20260311
SUMMARY:Zuschlag — Sanitär
DESCRIPTION:Phase: Zuschlag | Beschreibung: Vergabeergebnis — Auftrag wurde erteilt oder Verfahren beendet. | Link: https://ausschreibungsradar.com/ausschreibung/454853ca-04b4-45a1-95f8-7ed163bee7d6/
URL:https://ausschreibungsradar.com/ausschreibung/454853ca-04b4-45a1-95f8-7ed163bee7d6/
END:VEVENT
END:VCALENDAR
