BEGIN:VCALENDAR
VERSION:2.0
PRODID:-//AusschreibungsRadar//Timeline//DE
CALSCALE:GREGORIAN
METHOD:PUBLISH
X-WR-CALNAME:Projekt Bodenbelagsarbeiten - Erweiterungsbau Grundschule Helpup
X-WR-TIMEZONE:Europe/Berlin
BEGIN:VEVENT
UID:0d4311c471fb8d50@ausschreibungsradar.com
DTSTAMP:20260425T140916Z
DTSTART;VALUE=DATE:20251219
DTEND;VALUE=DATE:20251219
SUMMARY:Angebotsfrist — Bodenbelagsarbeiten - Erweiterungsbau Grundschule Helpup
DESCRIPTION:Phase: Ausschreibung | Beschreibung: Angebote werden eingeholt | Link: https://ausschreibungsradar.com/ausschreibung/efe3d02e-33cd-4ae8-aa9d-35ae0f8fb669/
URL:https://ausschreibungsradar.com/ausschreibung/efe3d02e-33cd-4ae8-aa9d-35ae0f8fb669/
END:VEVENT
BEGIN:VEVENT
UID:6dc0d318bb2ef4bb@ausschreibungsradar.com
DTSTAMP:20260425T140916Z
DTSTART;VALUE=DATE:20260122
DTEND;VALUE=DATE:20260122
SUMMARY:Vergabeergebnis — Bodenbelagsarbeiten - Erweiterungsbau Grundschule Helpup
DESCRIPTION:Phase: Vergabeergebnis | Beschreibung: Auftrag wurde zugeschlagen | Link: https://ausschreibungsradar.com/ausschreibung/08437852-d68e-4d73-97bd-95f76021d0fc/
URL:https://ausschreibungsradar.com/ausschreibung/08437852-d68e-4d73-97bd-95f76021d0fc/
END:VEVENT
END:VCALENDAR
