BEGIN:VCALENDAR
VERSION:2.0
PRODID:-//AusschreibungsRadar//Timeline//DE
CALSCALE:GREGORIAN
METHOD:PUBLISH
X-WR-CALNAME:Projekt Bad Berka Planungsleistung
X-WR-TIMEZONE:Europe/Berlin
BEGIN:VEVENT
UID:fc2e646e868f6b5b@ausschreibungsradar.com
DTSTAMP:20260424T104045Z
DTSTART;VALUE=DATE:20250328
DTEND;VALUE=DATE:20250328
SUMMARY:Ausschreibung — Bad Berka Planungsleistung
DESCRIPTION:Phase: Ausschreibung | Beschreibung: Angebote werden eingeholt | Link: https://ausschreibungsradar.com/ausschreibung/75fe6140-8e89-41e8-9b7d-bf7f8619bd4f/
URL:https://ausschreibungsradar.com/ausschreibung/75fe6140-8e89-41e8-9b7d-bf7f8619bd4f/
END:VEVENT
BEGIN:VEVENT
UID:05d3c288dce505df@ausschreibungsradar.com
DTSTAMP:20260424T104045Z
DTSTART;VALUE=DATE:20251111
DTEND;VALUE=DATE:20251111
SUMMARY:Vergabeergebnis — Bad Berka Planungsleistung
DESCRIPTION:Phase: Vergabeergebnis | Beschreibung: Auftrag wurde zugeschlagen | Link: https://ausschreibungsradar.com/ausschreibung/efff16e8-b461-4415-a8cb-ce2afcc97898/
URL:https://ausschreibungsradar.com/ausschreibung/efff16e8-b461-4415-a8cb-ce2afcc97898/
END:VEVENT
END:VCALENDAR
