BEGIN:VCALENDAR
VERSION:2.0
PRODID:-//AusschreibungsRadar//Timeline//DE
CALSCALE:GREGORIAN
METHOD:PUBLISH
X-WR-CALNAME:Projekt Neubau „Human Exploration Control Center“ (HECC) am DLR-Stan
X-WR-TIMEZONE:Europe/Berlin
BEGIN:VEVENT
UID:2fb4d8f758b94314@ausschreibungsradar.com
DTSTAMP:20260423T214437Z
DTSTART;VALUE=DATE:20251104
DTEND;VALUE=DATE:20251104
SUMMARY:Ausschreibung — Neubau „Human Exploration Control Center“ (HECC) am DLR-Stan
DESCRIPTION:Phase: Ausschreibung | Beschreibung: Angebote werden eingeholt | Link: https://ausschreibungsradar.com/ausschreibung/28bd6fba-9003-48b7-8090-c5cc2ea690a9/
URL:https://ausschreibungsradar.com/ausschreibung/28bd6fba-9003-48b7-8090-c5cc2ea690a9/
END:VEVENT
BEGIN:VEVENT
UID:7d6369970c72de14@ausschreibungsradar.com
DTSTAMP:20260423T214437Z
DTSTART;VALUE=DATE:20260413
DTEND;VALUE=DATE:20260413
SUMMARY:Vergabeergebnis — Neubau „Human Exploration Control Center“ (HECC) am DLR-Stan
DESCRIPTION:Phase: Vergabeergebnis | Beschreibung: Auftrag wurde zugeschlagen | Link: https://ausschreibungsradar.com/ausschreibung/f14ffcc7-bc99-4b12-b3e8-d4e134c83b75/
URL:https://ausschreibungsradar.com/ausschreibung/f14ffcc7-bc99-4b12-b3e8-d4e134c83b75/
END:VEVENT
BEGIN:VEVENT
UID:412e225a7bd186c7@ausschreibungsradar.com
DTSTAMP:20260423T214437Z
DTSTART;VALUE=DATE:20260413
DTEND;VALUE=DATE:20260413
SUMMARY:Zuschlag — Neubau „Human Exploration Control Center“ (HECC) am DLR-Stan
DESCRIPTION:Phase: Zuschlag | Beschreibung: Vergabeergebnis — Auftrag wurde erteilt oder Verfahren beendet. | Link: https://ausschreibungsradar.com/ausschreibung/4b5cbf8b-e76a-45e2-8e1d-eaa0174341c2/
URL:https://ausschreibungsradar.com/ausschreibung/4b5cbf8b-e76a-45e2-8e1d-eaa0174341c2/
END:VEVENT
BEGIN:VEVENT
UID:9e56b8d802a94932@ausschreibungsradar.com
DTSTAMP:20260423T214437Z
DTSTART;VALUE=DATE:20260413
DTEND;VALUE=DATE:20260413
SUMMARY:Zuschlag — Neubau „Human Exploration Control Center“ (HECC) am DLR-Stan
DESCRIPTION:Phase: Zuschlag | Beschreibung: Vergabeergebnis — Auftrag wurde erteilt oder Verfahren beendet. | Link: https://ausschreibungsradar.com/ausschreibung/aecf3be6-e772-448f-a1ff-bdc1040f06c3/
URL:https://ausschreibungsradar.com/ausschreibung/aecf3be6-e772-448f-a1ff-bdc1040f06c3/
END:VEVENT
BEGIN:VEVENT
UID:377c6afb4b171509@ausschreibungsradar.com
DTSTAMP:20260423T214437Z
DTSTART;VALUE=DATE:20260413
DTEND;VALUE=DATE:20260413
SUMMARY:Zuschlag — Neubau „Human Exploration Control Center“ (HECC) am DLR-Stan
DESCRIPTION:Phase: Zuschlag | Beschreibung: Vergabeergebnis — Auftrag wurde erteilt oder Verfahren beendet. | Link: https://ausschreibungsradar.com/ausschreibung/a5930bdf-4c76-4bd8-aa40-f09b7ea52e64/
URL:https://ausschreibungsradar.com/ausschreibung/a5930bdf-4c76-4bd8-aa40-f09b7ea52e64/
END:VEVENT
BEGIN:VEVENT
UID:effe0aac6e96efd0@ausschreibungsradar.com
DTSTAMP:20260423T214437Z
DTSTART;VALUE=DATE:20260413
DTEND;VALUE=DATE:20260413
SUMMARY:Zuschlag — Neubau „Human Exploration Control Center“ (HECC) am DLR-Stan
DESCRIPTION:Phase: Zuschlag | Beschreibung: Vergabeergebnis — Auftrag wurde erteilt oder Verfahren beendet. | Link: https://ausschreibungsradar.com/ausschreibung/0fb0b6c0-a295-4bad-8e44-0999739ff0b3/
URL:https://ausschreibungsradar.com/ausschreibung/0fb0b6c0-a295-4bad-8e44-0999739ff0b3/
END:VEVENT
END:VCALENDAR
