BEGIN:VCALENDAR
VERSION:2.0
PRODID:-//AusschreibungsRadar//Timeline//DE
CALSCALE:GREGORIAN
METHOD:PUBLISH
X-WR-CALNAME:Projekt Sanierung des Freibades in Herborn - Innenverglasung
X-WR-TIMEZONE:Europe/Berlin
BEGIN:VEVENT
UID:410bdfbb2f2b1a19@ausschreibungsradar.com
DTSTAMP:20260425T194000Z
DTSTART;VALUE=DATE:20251021
DTEND;VALUE=DATE:20251021
SUMMARY:Angebotsfrist — Sanierung des Freibades in Herborn - Innenverglasung
DESCRIPTION:Phase: Ausschreibung | Beschreibung: Angebote werden eingeholt | Link: https://ausschreibungsradar.com/ausschreibung/35474d18-6099-4016-a8a9-1d9f6c4d5c43/
URL:https://ausschreibungsradar.com/ausschreibung/35474d18-6099-4016-a8a9-1d9f6c4d5c43/
END:VEVENT
BEGIN:VEVENT
UID:15ca6f46a0f53122@ausschreibungsradar.com
DTSTAMP:20260425T194000Z
DTSTART;VALUE=DATE:20251117
DTEND;VALUE=DATE:20251117
SUMMARY:Zuschlag — Sanierung des Freibades in Herborn - Innenverglasung
DESCRIPTION:Phase: Zuschlag | Beschreibung: Vergabeergebnis — Auftrag wurde erteilt oder Verfahren beendet. | Link: https://ausschreibungsradar.com/ausschreibung/d2277a99-f4a2-4bb1-9a79-343a75720cb8/
URL:https://ausschreibungsradar.com/ausschreibung/d2277a99-f4a2-4bb1-9a79-343a75720cb8/
END:VEVENT
BEGIN:VEVENT
UID:b042255dc2e2123b@ausschreibungsradar.com
DTSTAMP:20260425T194000Z
DTSTART;VALUE=DATE:20251217
DTEND;VALUE=DATE:20251217
SUMMARY:Vergabeergebnis — Sanierung des Freibades in Herborn - Innenverglasung
DESCRIPTION:Phase: Vergabeergebnis | Beschreibung: Auftrag wurde zugeschlagen | Link: https://ausschreibungsradar.com/ausschreibung/f256c713-9730-45fc-be2a-eeaff031ffa8/
URL:https://ausschreibungsradar.com/ausschreibung/f256c713-9730-45fc-be2a-eeaff031ffa8/
END:VEVENT
END:VCALENDAR
