BEGIN:VCALENDAR
VERSION:2.0
PRODID:-//AusschreibungsRadar//Timeline//DE
CALSCALE:GREGORIAN
METHOD:PUBLISH
X-WR-CALNAME:Projekt Steinachtalschule, Abtsteinach - Generalsanierung mit Neubau
X-WR-TIMEZONE:Europe/Berlin
BEGIN:VEVENT
UID:4257043f4390a5ae@ausschreibungsradar.com
DTSTAMP:20260423T233135Z
DTSTART;VALUE=DATE:20260311
DTEND;VALUE=DATE:20260311
SUMMARY:Zuschlag — Steinachtalschule\, Abtsteinach - Generalsanierung mit Neubau
DESCRIPTION:Phase: Zuschlag | Beschreibung: Vergabeergebnis — Auftrag wurde erteilt oder Verfahren beendet. | Link: https://ausschreibungsradar.com/ausschreibung/b16ff3ea-39ba-40b1-a74d-0cce7b90a8d7/
URL:https://ausschreibungsradar.com/ausschreibung/b16ff3ea-39ba-40b1-a74d-0cce7b90a8d7/
END:VEVENT
BEGIN:VEVENT
UID:f99f8b23252cd64a@ausschreibungsradar.com
DTSTAMP:20260423T233135Z
DTSTART;VALUE=DATE:20260504
DTEND;VALUE=DATE:20260504
SUMMARY:Angebotsfrist — Steinachtalschule\, Abtsteinach - Generalsanierung mit Neubau
DESCRIPTION:Phase: Ausschreibung | Beschreibung: Angebote werden eingeholt | Link: https://ausschreibungsradar.com/ausschreibung/f2bcc2af-9a55-4d62-a3fd-abf52901dace/
URL:https://ausschreibungsradar.com/ausschreibung/f2bcc2af-9a55-4d62-a3fd-abf52901dace/
END:VEVENT
BEGIN:VEVENT
UID:670331eafb34d042@ausschreibungsradar.com
DTSTAMP:20260423T233135Z
DTSTART;VALUE=DATE:20260415
DTEND;VALUE=DATE:20260415
SUMMARY:Zuschlag — Steinachtalschule\, Abtsteinach - Generalsanierung mit Neubau
DESCRIPTION:Phase: Zuschlag | Beschreibung: Vergabeergebnis — Auftrag wurde erteilt oder Verfahren beendet. | Link: https://ausschreibungsradar.com/ausschreibung/08a6c346-ecea-45a4-bcbb-3139d526cb48/
URL:https://ausschreibungsradar.com/ausschreibung/08a6c346-ecea-45a4-bcbb-3139d526cb48/
END:VEVENT
BEGIN:VEVENT
UID:a097c328b941a6d1@ausschreibungsradar.com
DTSTAMP:20260423T233135Z
DTSTART;VALUE=DATE:20260415
DTEND;VALUE=DATE:20260415
SUMMARY:Zuschlag — Steinachtalschule\, Abtsteinach - Generalsanierung mit Neubau
DESCRIPTION:Phase: Zuschlag | Beschreibung: Vergabeergebnis — Auftrag wurde erteilt oder Verfahren beendet. | Link: https://ausschreibungsradar.com/ausschreibung/0e8942a5-6d63-4846-a574-5b89c0cc7507/
URL:https://ausschreibungsradar.com/ausschreibung/0e8942a5-6d63-4846-a574-5b89c0cc7507/
END:VEVENT
END:VCALENDAR
