BEGIN:VCALENDAR
VERSION:2.0
PRODID:-//AusschreibungsRadar//Timeline//DE
CALSCALE:GREGORIAN
METHOD:PUBLISH
X-WR-CALNAME:Projekt Abschluss einer Rahmenvereinbarung über die Lieferung von Si
X-WR-TIMEZONE:Europe/Berlin
BEGIN:VEVENT
UID:f47c1bc8c9f257f4@ausschreibungsradar.com
DTSTAMP:20260426T032700Z
DTSTART;VALUE=DATE:20260112
DTEND;VALUE=DATE:20260112
SUMMARY:Ausschreibung — Abschluss einer Rahmenvereinbarung über die Lieferung von Si
DESCRIPTION:Phase: Ausschreibung | Beschreibung: Offizielle Ausschreibung mit Bieterfrist. | Link: https://ausschreibungsradar.com/ausschreibung/f3668bde-cba3-4c6b-b58e-5ca9e52d0641/
URL:https://ausschreibungsradar.com/ausschreibung/f3668bde-cba3-4c6b-b58e-5ca9e52d0641/
END:VEVENT
BEGIN:VEVENT
UID:a820464e55befafa@ausschreibungsradar.com
DTSTAMP:20260426T032700Z
DTSTART;VALUE=DATE:20260209
DTEND;VALUE=DATE:20260209
SUMMARY:Ausschreibung — Abschluss einer Rahmenvereinbarung über die Lieferung von Si
DESCRIPTION:Phase: Ausschreibung | Beschreibung: Offizielle Ausschreibung mit Bieterfrist. | Link: https://ausschreibungsradar.com/ausschreibung/24970378/
URL:https://ausschreibungsradar.com/ausschreibung/24970378/
END:VEVENT
END:VCALENDAR
