BEGIN:VCALENDAR
VERSION:2.0
PRODID:-//AusschreibungsRadar//Timeline//DE
CALSCALE:GREGORIAN
METHOD:PUBLISH
X-WR-CALNAME:Projekt Los 3: Elektroarbeiten
X-WR-TIMEZONE:Europe/Berlin
BEGIN:VEVENT
UID:16a780714c6536e3@ausschreibungsradar.com
DTSTAMP:20260425T184902Z
DTSTART;VALUE=DATE:20241105
DTEND;VALUE=DATE:20241105
SUMMARY:Angebotsfrist — Los 3: Elektroarbeiten
DESCRIPTION:Phase: Ausschreibung | Beschreibung: Angebote werden eingeholt | Link: https://ausschreibungsradar.com/ausschreibung/f4777e1e-42a9-43dc-97d9-b0a55ca9f8f8/
URL:https://ausschreibungsradar.com/ausschreibung/f4777e1e-42a9-43dc-97d9-b0a55ca9f8f8/
END:VEVENT
END:VCALENDAR
