BEGIN:VCALENDAR
VERSION:2.0
PRODID:-//AusschreibungsRadar//Timeline//DE
CALSCALE:GREGORIAN
METHOD:PUBLISH
X-WR-CALNAME:Projekt Klinikum Passau - Generalsanierung und Erweiterung der Kälte
X-WR-TIMEZONE:Europe/Berlin
BEGIN:VEVENT
UID:d25c1ec567158ae9@ausschreibungsradar.com
DTSTAMP:20260424T120901Z
DTSTART;VALUE=DATE:20250606
DTEND;VALUE=DATE:20250606
SUMMARY:Ausschreibung — Klinikum Passau - Generalsanierung und Erweiterung der Kälte
DESCRIPTION:Phase: Ausschreibung | Beschreibung: Angebote werden eingeholt | Link: https://ausschreibungsradar.com/ausschreibung/31d89640-6016-440a-bf33-3347ec682256/
URL:https://ausschreibungsradar.com/ausschreibung/31d89640-6016-440a-bf33-3347ec682256/
END:VEVENT
BEGIN:VEVENT
UID:f83fc50f13f4420b@ausschreibungsradar.com
DTSTAMP:20260424T120901Z
DTSTART;VALUE=DATE:20251203
DTEND;VALUE=DATE:20251203
SUMMARY:Vergabeergebnis — Klinikum Passau - Generalsanierung und Erweiterung der Kälte
DESCRIPTION:Phase: Vergabeergebnis | Beschreibung: Auftrag wurde zugeschlagen | Link: https://ausschreibungsradar.com/ausschreibung/f48410e4-ae56-4c27-8b5e-40fd91efb2ae/
URL:https://ausschreibungsradar.com/ausschreibung/f48410e4-ae56-4c27-8b5e-40fd91efb2ae/
END:VEVENT
END:VCALENDAR
