BEGIN:VCALENDAR
VERSION:2.0
PRODID:-//AusschreibungsRadar//Timeline//DE
CALSCALE:GREGORIAN
METHOD:PUBLISH
X-WR-CALNAME:Projekt MKK-AES: Estricharbeiten
X-WR-TIMEZONE:Europe/Berlin
BEGIN:VEVENT
UID:acdca05309ece250@ausschreibungsradar.com
DTSTAMP:20260424T155350Z
DTSTART;VALUE=DATE:20240119
DTEND;VALUE=DATE:20240119
SUMMARY:Angebotsfrist — MKK-AES: Estricharbeiten
DESCRIPTION:Phase: Ausschreibung | Beschreibung: Angebote werden eingeholt | Link: https://ausschreibungsradar.com/ausschreibung/f4acb1d7-1ba6-41f2-81dc-c28b7e241bb4/ | Geschätzter Wert: 126000 €
URL:https://ausschreibungsradar.com/ausschreibung/f4acb1d7-1ba6-41f2-81dc-c28b7e241bb4/
END:VEVENT
BEGIN:VEVENT
UID:f8a52d379ce0ab7c@ausschreibungsradar.com
DTSTAMP:20260424T155350Z
DTSTART;VALUE=DATE:20240223
DTEND;VALUE=DATE:20240223
SUMMARY:Vergabeergebnis — MKK-AES: Estricharbeiten
DESCRIPTION:Phase: Vergabeergebnis | Beschreibung: Auftrag wurde zugeschlagen | Link: https://ausschreibungsradar.com/ausschreibung/8271dfed-4cd7-455a-a3fd-0c1829e40c38/ | Geschätzter Wert: 60000 €
URL:https://ausschreibungsradar.com/ausschreibung/8271dfed-4cd7-455a-a3fd-0c1829e40c38/
END:VEVENT
END:VCALENDAR
