BEGIN:VCALENDAR
VERSION:2.0
PRODID:-//AusschreibungsRadar//Timeline//DE
CALSCALE:GREGORIAN
METHOD:PUBLISH
X-WR-CALNAME:Projekt AE - Teilneubau der Grundschule Groß Berkel - Aufzugsarbeite
X-WR-TIMEZONE:Europe/Berlin
BEGIN:VEVENT
UID:db087a4afa771234@ausschreibungsradar.com
DTSTAMP:20260425T221301Z
DTSTART;VALUE=DATE:20241018
DTEND;VALUE=DATE:20241018
SUMMARY:Ausschreibung — AE - Teilneubau der Grundschule Groß Berkel - Aufzugsarbeite
DESCRIPTION:Phase: Ausschreibung | Beschreibung: Offizielle Ausschreibung mit Bieterfrist. | Link: https://ausschreibungsradar.com/ausschreibung/9ee042cc-358a-4baa-93e1-1313667a5182/
URL:https://ausschreibungsradar.com/ausschreibung/9ee042cc-358a-4baa-93e1-1313667a5182/
END:VEVENT
BEGIN:VEVENT
UID:3c00dc8d79490071@ausschreibungsradar.com
DTSTAMP:20260425T221301Z
DTSTART;VALUE=DATE:20241210
DTEND;VALUE=DATE:20241210
SUMMARY:Angebotsfrist — AE - Teilneubau der Grundschule Groß Berkel - Aufzugsarbeite
DESCRIPTION:Phase: Ausschreibung | Beschreibung: Angebote werden eingeholt | Link: https://ausschreibungsradar.com/ausschreibung/f4caaa1d-6aa1-4db7-b0f6-63d1cfcbc876/
URL:https://ausschreibungsradar.com/ausschreibung/f4caaa1d-6aa1-4db7-b0f6-63d1cfcbc876/
END:VEVENT
BEGIN:VEVENT
UID:01098e69696e20d3@ausschreibungsradar.com
DTSTAMP:20260425T221301Z
DTSTART;VALUE=DATE:20241127
DTEND;VALUE=DATE:20241127
SUMMARY:Zuschlag — AE - Teilneubau der Grundschule Groß Berkel - Aufzugsarbeite
DESCRIPTION:Phase: Zuschlag | Beschreibung: Vergabeergebnis — Auftrag wurde erteilt oder Verfahren beendet. | Link: https://ausschreibungsradar.com/ausschreibung/2d4bfd2f-b682-45bf-af1a-c9d10fd2b665/
URL:https://ausschreibungsradar.com/ausschreibung/2d4bfd2f-b682-45bf-af1a-c9d10fd2b665/
END:VEVENT
BEGIN:VEVENT
UID:1561e2063cef552a@ausschreibungsradar.com
DTSTAMP:20260425T221301Z
DTSTART;VALUE=DATE:20250122
DTEND;VALUE=DATE:20250122
SUMMARY:Vergabeergebnis — AE - Teilneubau der Grundschule Groß Berkel - Aufzugsarbeite
DESCRIPTION:Phase: Vergabeergebnis | Beschreibung: Auftrag wurde zugeschlagen | Link: https://ausschreibungsradar.com/ausschreibung/abf414ed-4b77-4ace-9ccf-f255cd094b64/
URL:https://ausschreibungsradar.com/ausschreibung/abf414ed-4b77-4ace-9ccf-f255cd094b64/
END:VEVENT
END:VCALENDAR
