BEGIN:VCALENDAR
VERSION:2.0
PRODID:-//AusschreibungsRadar//Timeline//DE
CALSCALE:GREGORIAN
METHOD:PUBLISH
X-WR-CALNAME:Projekt Abschluss einer nicht-exklusiven Rabattvereinbarung nach § 1
X-WR-TIMEZONE:Europe/Berlin
BEGIN:VEVENT
UID:bcf5144a8434382d@ausschreibungsradar.com
DTSTAMP:20260425T030817Z
DTSTART;VALUE=DATE:20251205
DTEND;VALUE=DATE:20251205
SUMMARY:Angebotsfrist — Abschluss einer nicht-exklusiven Rabattvereinbarung nach § 1
DESCRIPTION:Phase: Ausschreibung | Beschreibung: Angebote werden eingeholt | Link: https://ausschreibungsradar.com/ausschreibung/ce0fce36-5ba8-4b18-b57e-5ee31e20be7e/ | Geschätzter Wert: 1 €
URL:https://ausschreibungsradar.com/ausschreibung/ce0fce36-5ba8-4b18-b57e-5ee31e20be7e/
END:VEVENT
BEGIN:VEVENT
UID:30124655228ce6cf@ausschreibungsradar.com
DTSTAMP:20260425T030817Z
DTSTART;VALUE=DATE:20250915
DTEND;VALUE=DATE:20250915
SUMMARY:Ausschreibung — Abschluss einer nicht-exklusiven Rabattvereinbarung nach § 1
DESCRIPTION:Phase: Ausschreibung | Beschreibung: Offizielle Ausschreibung mit Bieterfrist. | Link: https://ausschreibungsradar.com/ausschreibung/75db2e02-3859-41ae-9c0c-3a6225772da9/
URL:https://ausschreibungsradar.com/ausschreibung/75db2e02-3859-41ae-9c0c-3a6225772da9/
END:VEVENT
BEGIN:VEVENT
UID:80cf35c7b373e9fe@ausschreibungsradar.com
DTSTAMP:20260425T030817Z
DTSTART;VALUE=DATE:20250926
DTEND;VALUE=DATE:20250926
SUMMARY:Vergabeergebnis — Abschluss einer nicht-exklusiven Rabattvereinbarung nach § 1
DESCRIPTION:Phase: Vergabeergebnis | Beschreibung: Auftrag wurde zugeschlagen | Link: https://ausschreibungsradar.com/ausschreibung/f501e151-07eb-4eaa-a0a3-7c84b88912b3/ | Geschätzter Wert: 1 €
URL:https://ausschreibungsradar.com/ausschreibung/f501e151-07eb-4eaa-a0a3-7c84b88912b3/
END:VEVENT
BEGIN:VEVENT
UID:812e6dce7c9ad7a4@ausschreibungsradar.com
DTSTAMP:20260425T030817Z
DTSTART;VALUE=DATE:20250926
DTEND;VALUE=DATE:20250926
SUMMARY:Zuschlag — Abschluss einer nicht-exklusiven Rabattvereinbarung nach § 1
DESCRIPTION:Phase: Zuschlag | Beschreibung: Vergabeergebnis — Auftrag wurde erteilt oder Verfahren beendet. | Link: https://ausschreibungsradar.com/ausschreibung/1a5166c0-278b-4dc5-b960-2bad93e656b5/
URL:https://ausschreibungsradar.com/ausschreibung/1a5166c0-278b-4dc5-b960-2bad93e656b5/
END:VEVENT
END:VCALENDAR
