BEGIN:VCALENDAR
VERSION:2.0
PRODID:-//AusschreibungsRadar//Timeline//DE
CALSCALE:GREGORIAN
METHOD:PUBLISH
X-WR-CALNAME:Projekt H2 GDRMA Kitzen - EPC-Vertrag über Planungs- und Realisierun
X-WR-TIMEZONE:Europe/Berlin
BEGIN:VEVENT
UID:b32d424b44de0675@ausschreibungsradar.com
DTSTAMP:20260424T001646Z
DTSTART;VALUE=DATE:20251008
DTEND;VALUE=DATE:20251008
SUMMARY:Zuschlag — H2 GDRMA Kitzen - EPC-Vertrag über Planungs- und Realisierun
DESCRIPTION:Phase: Zuschlag | Beschreibung: Vergabeergebnis — Auftrag wurde erteilt oder Verfahren beendet. | Link: https://ausschreibungsradar.com/ausschreibung/e8dfe7ae-3581-4ea6-923d-6739dbe6e0ec/
URL:https://ausschreibungsradar.com/ausschreibung/e8dfe7ae-3581-4ea6-923d-6739dbe6e0ec/
END:VEVENT
BEGIN:VEVENT
UID:21b96a0b2160d075@ausschreibungsradar.com
DTSTAMP:20260424T001646Z
DTSTART;VALUE=DATE:20251016
DTEND;VALUE=DATE:20251016
SUMMARY:Ausschreibung — H2 GDRMA Kitzen - EPC-Vertrag über Planungs- und Realisierun
DESCRIPTION:Phase: Ausschreibung | Beschreibung: Angebote werden eingeholt | Link: https://ausschreibungsradar.com/ausschreibung/f6cedefe-28f9-48c8-a06e-5eef9bd00530/
URL:https://ausschreibungsradar.com/ausschreibung/f6cedefe-28f9-48c8-a06e-5eef9bd00530/
END:VEVENT
BEGIN:VEVENT
UID:c959c887f3da06c0@ausschreibungsradar.com
DTSTAMP:20260424T001646Z
DTSTART;VALUE=DATE:20260223
DTEND;VALUE=DATE:20260223
SUMMARY:Vergabeergebnis — H2 GDRMA Kitzen - EPC-Vertrag über Planungs- und Realisierun
DESCRIPTION:Phase: Vergabeergebnis | Beschreibung: Bedarf hat sich geändert | Link: https://ausschreibungsradar.com/ausschreibung/0984fef3-1494-4b10-ad65-1f2fb8b2b350/
URL:https://ausschreibungsradar.com/ausschreibung/0984fef3-1494-4b10-ad65-1f2fb8b2b350/
END:VEVENT
END:VCALENDAR
