BEGIN:VCALENDAR
VERSION:2.0
PRODID:-//AusschreibungsRadar//Timeline//DE
CALSCALE:GREGORIAN
METHOD:PUBLISH
X-WR-CALNAME:Projekt Zukunftsquartier; Rückbauarbeiten
X-WR-TIMEZONE:Europe/Berlin
BEGIN:VEVENT
UID:59f970c6617547f7@ausschreibungsradar.com
DTSTAMP:20260426T001216Z
DTSTART;VALUE=DATE:20251117
DTEND;VALUE=DATE:20251117
SUMMARY:Angebotsfrist — Zukunftsquartier\; Rückbauarbeiten
DESCRIPTION:Phase: Ausschreibung | Beschreibung: Angebote werden eingeholt | Link: https://ausschreibungsradar.com/ausschreibung/f717cb60-9c1c-4c6c-a085-2c6c6d1d1da9/
URL:https://ausschreibungsradar.com/ausschreibung/f717cb60-9c1c-4c6c-a085-2c6c6d1d1da9/
END:VEVENT
BEGIN:VEVENT
UID:ee659bb6db362be6@ausschreibungsradar.com
DTSTAMP:20260426T001216Z
DTSTART;VALUE=DATE:20260218
DTEND;VALUE=DATE:20260218
SUMMARY:Vergabeergebnis — Zukunftsquartier\; Rückbauarbeiten
DESCRIPTION:Phase: Vergabeergebnis | Beschreibung: Auftrag wurde zugeschlagen | Link: https://ausschreibungsradar.com/ausschreibung/7fe6e8e1-d417-40be-8da5-962d3142cc2b/
URL:https://ausschreibungsradar.com/ausschreibung/7fe6e8e1-d417-40be-8da5-962d3142cc2b/
END:VEVENT
END:VCALENDAR
